BEGIN:VCALENDAR
VERSION:2.0
PRODID:-//wp-events-plugin.com//7.2.3.1//EN
BEGIN:VEVENT
UID:120@pilegrimsfellesskapet.no
DTSTART;TZID=Europe/Oslo:20211128T150000
DTEND;TZID=Europe/Oslo:20211128T190000
DTSTAMP:20211108T105846Z
URL:https://www.pilegrimsfellesskapet.no/arrangement/adventsvandring-fra-g
 ranavollen-til-tingelstad-kirke/
SUMMARY:Adventsvandring fra Granavollen til Tingelstad kirke
DESCRIPTION:Pilegrimsfellesskapet Ringerike – Hadeland – Toten og Pile
 grimssenter Granavollen\, inviterer til adventsvandring 28. november.
ATTACH;FMTTYPE=image/jpeg:https://www.pilegrimsfellesskapet.no/wp-content/
 uploads/2018/07/IMG_4849.jpg
CATEGORIES:Dagsvandring,Pilegrimsfellesskapet Ringerike-Hadeland-Toten
 (RIHATO)
LOCATION:Granavollen\, Granavollen 19\, Gran\, 2750\, Norway
X-APPLE-STRUCTURED-LOCATION;VALUE=URI;X-ADDRESS=Granavollen 19\, Gran\, 275
 0\, Norway;X-APPLE-RADIUS=100;X-TITLE=Granavollen:geo:0,0
END:VEVENT
BEGIN:VTIMEZONE
TZID:Europe/Oslo
X-LIC-LOCATION:Europe/Oslo
BEGIN:STANDARD
DTSTART:20211031T020000
TZOFFSETFROM:+0200
TZOFFSETTO:+0100
TZNAME:CET
END:STANDARD
END:VTIMEZONE
END:VCALENDAR