BEGIN:VCALENDAR
VERSION:2.0
PRODID:-//wp-events-plugin.com//7.2.3.1//EN
BEGIN:VEVENT
UID:177@pilegrimsfellesskapet.no
DTSTART;TZID=Europe/Oslo:20221018T162000
DTEND;TZID=Europe/Oslo:20221018T183000
DTSTAMP:20221004T073014Z
URL:https://www.pilegrimsfellesskapet.no/arrangement/akershus/
SUMMARY:AKERSHUS FESTNING: Besøk i Akershus slottskirke
DESCRIPTION:\n\n \nFoto: KØ 2021\n\n.\nPSH inviterer til guidet middelald
 erkirkevandring i Akershus slottskirke tirsdag 18.okt.\n\nOPPMØTE:\nSenes
 t kl. 1620 - altså "ti på halv fem" - ved festningsporten i enden av Kir
 kegata - mellom Gamle Logen og Prinsessens plass.Vi blir møtt i porten av
  kirketjeneren. Derifra blir vi fulgt til slottskirken. Det er viktig å m
 øte presis\, fordi vi må følges inn.Vi vil få se kirken og det kongeli
 ge mausoleum\, samt får et historisk overblikk. Besøket er gratis og arr
 angert spesielt for oss.\n.\nTurlederne stempler «Pilegrimspass for midde
 lalderkirker på Østlandet» i kirken. Den som ønsker det\, kan kjøpe p
 ass i løpet av vandringen.\nNB! Selve slottskirkerommet er ikke fra midde
 lalderen\, men deler av bygningsmassen på Akershus festning er bygget av 
 stein som ble hentet fra Hovedøya kloster da dette ble nedlagt.Etter bes
 øket tar vi en felles 2-3 km vandring langs kaiene i retning Ekebergåsen
  og Gamlebyen. Gruppen avgjør lengde og varighet.\nDen som ønsker å avs
 lutte med et fellesmåltid på egen regning\, kan bli med turlederne innom
  Barcode Street Food i Dronning Eufemias gate 14.\n\n\nArrangementet er gr
 atis og åpent for alle.\n\n.\nVandreguider fra PSH er Grethe Sprone og Kr
 istin Øveraas.\n\n\n\n.\nHar du spørsmål like før turstart\, kan du ta
  kontakt via kommentarfeltet på Facebook-arrangementet.\n\n.\nLenker\n\n 
 	Mer om Pilegrimspass for Middelalderkirker på Østlandet\n 	Neste planla
 gte vandring finner du her.\n\n&nbsp\;\n\n&nbsp\;\n\n\n\n&nbsp\;\n\n\n\n&n
 bsp\;\n\n&nbsp\;\n\n&nbsp\;\n\n&nbsp\;\n\n&nbsp\;\n\n \n\n&nbsp\;\n\n&nbs
 p\;\n\n&nbsp\;\n\n&nbsp\;\n\n&nbsp\;
CATEGORIES:Dagsvandring,Pilegrimsfellesskapet St. Hallvard av Oslo
END:VEVENT
BEGIN:VTIMEZONE
TZID:Europe/Oslo
X-LIC-LOCATION:Europe/Oslo
BEGIN:DAYLIGHT
DTSTART:20220327T030000
TZOFFSETFROM:+0100
TZOFFSETTO:+0200
TZNAME:CEST
END:DAYLIGHT
END:VTIMEZONE
END:VCALENDAR