BEGIN:VCALENDAR
VERSION:2.0
PRODID:-//wp-events-plugin.com//7.2.3.1//EN
BEGIN:VEVENT
UID:426@pilegrimsfellesskapet.no
DTSTART;TZID=Europe/Oslo:20250426T140000
DTEND;TZID=Europe/Oslo:20250426T160000
DTSTAMP:20250320T153918Z
URL:https://www.pilegrimsfellesskapet.no/arrangement/arsmote-2025-pilegrim
 sforbundet-i-norge/
SUMMARY:Årsmøte 2025 Pilegrimsforbundet i Norge
DESCRIPTION:Årsmøtet i PIlegrimsforbundet i Norge 2025 blir på Lia gård
  retreatsenter i Østerdalen. Alle medlemmer av medlemsforeningenes er vel
 komne til å delta\, men kun delegater har stemmerett.
ATTACH;FMTTYPE=image/jpeg:https://www.pilegrimsfellesskapet.no/wp-content/
 uploads/2024/11/Lia-gard.jpg
CATEGORIES:Møter
LOCATION:Lia gård\, Koppang\, Koppang\, 2480\, Innlandet\, Norway
X-APPLE-STRUCTURED-LOCATION;VALUE=URI;X-ADDRESS=Koppang\, Koppang\, 2480\, 
 Innlandet\, Norway;X-APPLE-RADIUS=100;X-TITLE=Lia gård:geo:0,0
END:VEVENT
BEGIN:VTIMEZONE
TZID:Europe/Oslo
X-LIC-LOCATION:Europe/Oslo
BEGIN:DAYLIGHT
DTSTART:20250330T030000
TZOFFSETFROM:+0100
TZOFFSETTO:+0200
TZNAME:CEST
END:DAYLIGHT
END:VTIMEZONE
END:VCALENDAR