BEGIN:VCALENDAR
VERSION:2.0
PRODID:-//wp-events-plugin.com//7.2.3.1//EN
BEGIN:VEVENT
UID:215@pilegrimsfellesskapet.no
DTSTART;TZID=Europe/Oslo:20230311T110000
DTEND;TZID=Europe/Oslo:20230311T170000
DTSTAMP:20230216T151252Z
URL:https://www.pilegrimsfellesskapet.no/arrangement/arsmote-i-pilegrimsfe
 llesskapet-st-olav-nidaros/
SUMMARY:Årsmøte i Pilegrimsfellesskapet St. Olav - Nidaros
DESCRIPTION:Pilegrimsfellesskapet St. Olav - Nidaros avholder årsmøte på
  Erkebispegården lørdag 11. mars. Til behandling vanlige årsmøtesaker.
ATTACH;FMTTYPE=image/jpeg:https://www.pilegrimsfellesskapet.no/wp-content/
 uploads/2020/06/85239589_2533116793622745_892349953337196544_n.png
CATEGORIES:Møter,Pilegrimsfellesskapet St. Olav - Nidaros
LOCATION:Erkebispegården\, Kongsgårdsgata 1B\, Trondheim\, Trøndelag\, 7
 013\, Trøndelag\, Norway
X-APPLE-STRUCTURED-LOCATION;VALUE=URI;X-ADDRESS=Kongsgårdsgata 1B\, Trondh
 eim\, Trøndelag\, 7013\, Trøndelag\, Norway;X-APPLE-RADIUS=100;X-TITLE=E
 rkebispegården:geo:0,0
END:VEVENT
BEGIN:VTIMEZONE
TZID:Europe/Oslo
X-LIC-LOCATION:Europe/Oslo
BEGIN:STANDARD
DTSTART:20221030T020000
TZOFFSETFROM:+0200
TZOFFSETTO:+0100
TZNAME:CET
END:STANDARD
END:VTIMEZONE
END:VCALENDAR