BEGIN:VCALENDAR
VERSION:2.0
PRODID:-//wp-events-plugin.com//7.2.3.1//EN
BEGIN:VEVENT
UID:363@pilegrimsfellesskapet.no
DTSTART;TZID=Europe/Oslo:20240404T190000
DTEND;TZID=Europe/Oslo:20240404T190000
DTSTAMP:20240319T194545Z
URL:https://www.pilegrimsfellesskapet.no/arrangement/arsmote-i-pilegrimsfe
 llesskapet-st-olav-oppdal/
SUMMARY:Årsmøte i Pilegrimsfellesskapet St Olav\, Oppdal
DESCRIPTION:https://www.pilegrimsfellesskapet.no/arsmote-i-pilegrimsfelless
 kapet-st-olav-oppdal/
END:VEVENT
BEGIN:VTIMEZONE
TZID:Europe/Oslo
X-LIC-LOCATION:Europe/Oslo
BEGIN:DAYLIGHT
DTSTART:20240331T030000
TZOFFSETFROM:+0100
TZOFFSETTO:+0200
TZNAME:CEST
END:DAYLIGHT
END:VTIMEZONE
END:VCALENDAR