BEGIN:VCALENDAR
VERSION:2.0
PRODID:-//wp-events-plugin.com//7.2.3.1//EN
BEGIN:VEVENT
UID:42@pilegrimsfellesskapet.no
DTSTART;TZID=Europe/Oslo:20210424T100000
DTEND;TZID=Europe/Oslo:20210424T151500
DTSTAMP:20210325T123228Z
URL:https://www.pilegrimsfellesskapet.no/arrangement/arsmote-i-pilegrimsfe
 llesskapet-st-olav/
SUMMARY:Årsmøte i Pilegrimsfellesskapet St. Olav
DESCRIPTION:Årsmøte i PSO 2021 gjennomføres digitalt.
ATTACH;FMTTYPE=image/jpeg:https://www.pilegrimsfellesskapet.no/wp-content/
 uploads/2020/06/85239589_2533116793622745_892349953337196544_n.png
CATEGORIES:Møter
END:VEVENT
BEGIN:VTIMEZONE
TZID:Europe/Oslo
X-LIC-LOCATION:Europe/Oslo
BEGIN:DAYLIGHT
DTSTART:20210328T030000
TZOFFSETFROM:+0100
TZOFFSETTO:+0200
TZNAME:CEST
END:DAYLIGHT
END:VTIMEZONE
END:VCALENDAR