BEGIN:VCALENDAR
VERSION:2.0
PRODID:-//wp-events-plugin.com//7.2.3.1//EN
BEGIN:VEVENT
UID:241@pilegrimsfellesskapet.no
DTSTART;TZID=Europe/Oslo:20230322T180000
DTEND;TZID=Europe/Oslo:20230322T200000
DTSTAMP:20230313T104855Z
URL:https://www.pilegrimsfellesskapet.no/arrangement/arsmote-i-pilegrimsfe
 llesskapet-sta-gjertrud/
SUMMARY:Årsmøte i Pilegrimsfellesskapet Sta. Gjertrud
DESCRIPTION:Pilegrimsfellesskapet Sta Gjertrud\, Sandefjord inviterer til 
 årsmøte.
ATTACH;FMTTYPE=image/jpeg:https://www.pilegrimsfellesskapet.no/wp-content/
 uploads/2022/10/Santa-Gjertud.jpg
CATEGORIES:Pilegrimsfellesskapet Sandefjord
LOCATION:Sandefjord\, Storgata 20\, Sandefjord\, 3210\, Vestfold og Telemar
 k\, Norway
X-APPLE-STRUCTURED-LOCATION;VALUE=URI;X-ADDRESS=Storgata 20\, Sandefjord\, 
 3210\, Vestfold og Telemark\, Norway;X-APPLE-RADIUS=100;X-TITLE=Sandefjord
 :geo:0,0
END:VEVENT
BEGIN:VTIMEZONE
TZID:Europe/Oslo
X-LIC-LOCATION:Europe/Oslo
BEGIN:STANDARD
DTSTART:20221030T020000
TZOFFSETFROM:+0200
TZOFFSETTO:+0100
TZNAME:CET
END:STANDARD
END:VTIMEZONE
END:VCALENDAR