BEGIN:VCALENDAR
VERSION:2.0
PRODID:-//wp-events-plugin.com//7.2.3.1//EN
BEGIN:VEVENT
UID:131@pilegrimsfellesskapet.no
DTSTART;TZID=Europe/Oslo:20220320T180000
DTEND;TZID=Europe/Oslo:20220320T210000
DTSTAMP:20220212T191630Z
URL:https://www.pilegrimsfellesskapet.no/arrangement/arsmote-i-rihato/
SUMMARY:Årsmøte i RiHaTo
DESCRIPTION:Informasjon om årsmøte i Pilegrimsforeningen Ringerike - Hade
 land - Toten.
CATEGORIES:Møter
LOCATION:Granavollen\, Granavollen\, Gran\, Norway
X-APPLE-STRUCTURED-LOCATION;VALUE=URI;X-ADDRESS=Granavollen\, Gran\, Norway
 ;X-APPLE-RADIUS=100;X-TITLE=Granavollen:geo:0,0
END:VEVENT
BEGIN:VTIMEZONE
TZID:Europe/Oslo
X-LIC-LOCATION:Europe/Oslo
BEGIN:STANDARD
DTSTART:20211031T020000
TZOFFSETFROM:+0200
TZOFFSETTO:+0100
TZNAME:CET
END:STANDARD
END:VTIMEZONE
END:VCALENDAR