BEGIN:VCALENDAR
VERSION:2.0
PRODID:-//wp-events-plugin.com//7.2.3.1//EN
BEGIN:VEVENT
UID:365@pilegrimsfellesskapet.no
DTSTART;TZID=Europe/Oslo:20240509T000000
DTEND;TZID=Europe/Oslo:20240511T000000
DTSTAMP:20240503T085255Z
URL:https://www.pilegrimsfellesskapet.no/arrangement/bli-med-pa-st-hallvar
 dsvandring-2024/
SUMMARY:Bli med på St. Hallvardsvandring 2024
DESCRIPTION:Bli med på årets St. Hallvardsvandring i Kristi Himmelfarts-h
 elgen! Overskriften for årets vandringsdager er «Veien».\n\nVi kommer t
 il å vandre langs noen av de vakreste strekningene langs de to Pilegrimsl
 edene på Østlandet: Tunsbergleden og Borgleden.\nMidt i naturen vil vi f
 å impulser som kan kaste lys over St. Hallvards veivalg og vår egen livs
 vei.\n\nDag 1\, torsdag 9. mai (Kristi Himmelfartsdag)\, 10 km:\nVandringe
 n starter på St. Hallvards hjemsted\, Huseby gård i Lier. Her er Husebyh
 augen som er et flott visningssenter som er bygd inn i en gravhaug.\nVi g
 år Tunsbergleden via Spikkestad kirke til Røyken. Til Huseby kommer du e
 nkleste med tog til Lier stasjon. Biskop Jan Otto Myrseth blir med oss de
 nne dagen.\n\nDag 2\, fredag 10. mai\, 14 km:\nAndre dag går fortsetter v
 i langs Tunsbergleden fra Røyken kirke gjennom flott skogsterreng via Dik
 emark\, Vardåsen kirke og til Asker. Sokneprest Karoline Astrup blir med
  oss og gir oss vandringsimpulser.\n\nDag 3\, lørdag 11. mai\, 15 km:\nTr
 edje dag går vi Borgleden over vakre Grønliåsen og inn til St. Hallvard
 skatedralen i Gamlebyen/Oslo. Vi reiser sammen med buss 81 fra Jernbanetor
 get kl 0943 (i Tollbugata\, plattform N).\n\nPraktisk info\nDu kan velge 
 å være med på alle tre dagene og det går fint å bli med kun på en av
  dem. Vandringen bør passe godt for alle.\nVi starter ca. kl 10 hver dag.
  Det går kollektivtransport til alle startsteder og der vi ender vår dag
 svandring ca. kl. 1600.\nMer info på pilegrimsleden.no\n\nVandringen er g
 ratis!\n\nHar du spørsmål kan du kontakte Pilegrimssenter Oslo. Telefon:
  48052949\nEpost: oslo@pilegrimssenter.no.\n\nSt. Hallvardsvandringen er e
 t samarbeide mellom Pilegrimsforeningen St. Hallvard av Huseby\, Pilegrims
 felleskapet St. Hallvard av Oslo og Pilegrimssenter Oslo.
ATTACH;FMTTYPE=image/jpeg:https://www.pilegrimsfellesskapet.no/wp-content/
 uploads/2019/03/vandring.jpg
CATEGORIES:Fellesturer,Pilegrimsfellesskapet St. Hallvard av
 Oslo,Pilegrimsforeningen St. Hallvard av Huseby
LOCATION:St Hallvard\, Papirbredden\, Drammen\, 3044\, Viken\, Norway
X-APPLE-STRUCTURED-LOCATION;VALUE=URI;X-ADDRESS=Papirbredden\, Drammen\, 30
 44\, Viken\, Norway;X-APPLE-RADIUS=100;X-TITLE=St Hallvard:geo:0,0
END:VEVENT
BEGIN:VTIMEZONE
TZID:Europe/Oslo
X-LIC-LOCATION:Europe/Oslo
BEGIN:DAYLIGHT
DTSTART:20240331T030000
TZOFFSETFROM:+0100
TZOFFSETTO:+0200
TZNAME:CEST
END:DAYLIGHT
END:VTIMEZONE
END:VCALENDAR