BEGIN:VCALENDAR
VERSION:2.0
PRODID:-//wp-events-plugin.com//7.2.3.1//EN
BEGIN:VEVENT
UID:528@pilegrimsfellesskapet.no
DTSTART;TZID=Europe/Oslo:20250830T000000
DTEND;TZID=Europe/Oslo:20250830T000000
DTSTAMP:20250827T081905Z
URL:https://www.pilegrimsfellesskapet.no/arrangement/bli-med-pa-vandring-g
 jennom-bymarka-i-trondheim/
SUMMARY:AVLYST: VANDRING GJENNOM BYMARKA I TRONDHEIM
DESCRIPTION:\n\nDenne vandringen må dessverre AVLYSES. Det arbeides med å
  få til en annen tur i høst.\n\n\n\n\nBLI MED PÅ VANDRING GJENNOM BYMAR
 KA I TRONDHEIM\nLørdag 30. august arrangerer PSO-Nidaros vandring gjenom
  Bymarka i Trondheim.\nTuren går for det meste langs Gamle Bynesveg og D
 riftsvegen fra Klefstadhaugen til Ila og Nidarosdomen og er ca. 12 km.\nTu
 ren er lett\, med en total stigning på ca. 300 m.\nDet er ingen mulighe
 t til å hoppe av underveIs.\nTuren ledes av Aage Gram.\nVi tar buss nr
 . 75 Spongdal som går fra Kongensgate K1 kl. 10.23 og er på Klefstadhaug
 en kl. 10.45.\nDet er ingen påmelding\, så bare møt opp og ta gjerne me
 d noen som har lyst til å bli kjent med PSO-Nidaros.\nAlle er velkomne ti
 l å bli med!\n\nMed vennlig hilsen\nstyret i PSO-Nidaros\nv/Gunnar Prytz 
 Leland\n\n
ATTACH;FMTTYPE=image/jpeg:https://www.pilegrimsfellesskapet.no/wp-content/
 uploads/2024/03/Leangen-scaled.jpg
CATEGORIES:Fellesturer,Pilegrimsfellesskapet St. Olav - Nidaros
END:VEVENT
BEGIN:VTIMEZONE
TZID:Europe/Oslo
X-LIC-LOCATION:Europe/Oslo
BEGIN:DAYLIGHT
DTSTART:20250330T030000
TZOFFSETFROM:+0100
TZOFFSETTO:+0200
TZNAME:CEST
END:DAYLIGHT
END:VTIMEZONE
END:VCALENDAR