BEGIN:VCALENDAR
VERSION:2.0
PRODID:-//wp-events-plugin.com//7.2.3.1//EN
BEGIN:VEVENT
UID:30@pilegrimsfellesskapet.no
DTSTART;TZID=Europe/Oslo:20200905T113000
DTEND;TZID=Europe/Oslo:20200905T150000
DTSTAMP:20200820T163543Z
URL:https://www.pilegrimsfellesskapet.no/arrangement/blokkhus-til-roten/
SUMMARY:Vandring fra på Kjølvegen fra Blokkhus til Roten
DESCRIPTION:[caption id="attachment_30060" align="alignleft" width="300"] R
 oten ved Høgkorset i Gran[/caption]\n\nLørdag 5. september\, avgang kl. 
 11.30 fra P-plassen på Blokkhus. Vi vandrer pilegrimsleden\, dvs. Kjølve
 gen\, inn til Roten. Turen er ca. 3 km hver veg. (Den offisielle delegasjo
 nen har knapt med tid\, og vil kjøre inn.) Vi må være framme i godt tid
  til det offisielle programmet begynner kl. 12.30. Retur etter at programm
 et er ferdig. Vanlige korona-regler for utearrangement.\n\nDette kunstverk
 et\, som er satt opp like inntil Kjølvegen mellom Blokkhus og Høgkorset\
 , inngår i årets pilegrimssatsing for Innlandet i samarbeid med Pilegrim
 ssenteret og Gran Kommune. Vandringen arrangeres i tilknytning til den off
 isielle åpningen.
CATEGORIES:Dagsvandring,Fellesturer
END:VEVENT
BEGIN:VTIMEZONE
TZID:Europe/Oslo
X-LIC-LOCATION:Europe/Oslo
BEGIN:DAYLIGHT
DTSTART:20200329T030000
TZOFFSETFROM:+0100
TZOFFSETTO:+0200
TZNAME:CEST
END:DAYLIGHT
END:VTIMEZONE
END:VCALENDAR