BEGIN:VCALENDAR
VERSION:2.0
PRODID:-//wp-events-plugin.com//7.2.3.1//EN
BEGIN:VEVENT
UID:10@pilegrimsfellesskapet.no
DTSTART;TZID=Europe/Oslo:20200616T160000
DTEND;TZID=Europe/Oslo:20200616T190000
DTSTAMP:20200605T161919Z
URL:https://www.pilegrimsfellesskapet.no/arrangement/byvandring-med-pilegr
 imspresten/
SUMMARY:Byvandring med pilegrimspresten
DESCRIPTION:[caption id="attachment_29958" align="alignnone" width="202"] P
 ilegrimspresten Einar Vegge ved Nidarosdomen.Foto: Adrien Safranka[/captio
 n]\n\nFortellinger om det hellige i vår by - bli med på en tretimers byv
 andring med pilegrimspresten til gamle klostersteder i Trondheim.\n\nHa p
 å komfortable sko og klær\, og gjerne ta med noe å drikke.\nStart fra N
 idaros pilegrimsgård.\n\nI år er vi nødt til å tenke smittevern\, og d
 et gjelder alle deltakere:\n- Hold god hånd- og hostehygiene! Hvor det ik
 ke finnes vaskemuligheter\, bruk hånddesinfiserende. (Ta med selv!)\n- Ho
 ld avstand! Minst en meter avstand\, ingen håndhilsing\, ingen klemmer.\n
 - Er du syk? Da ber vi at du holder deg hjemme denne gangen.\n- Begrenset 
 antall deltakere.\n- Påmelding er påkrevd!\nArrangør må ha oversikt ov
 er deltakere pga evt. smittesporing\, derfor er vi nødt til å ta påmeld
 ing. Du trenger å skrive ditt fulle navn\, og navnet til den som evt. bli
 r med deg i tillegg. Det er altså ikke nok å melde interesse på faceboo
 k. Påmelding skjer via e-post til nidaros.pilgrim@gmail.com eller pr. sms
  til +47 92200171\n\nVel møtt!\n\nArr. Nidarosutvalget\, Pilegrimsfelless
 kapet St. Olav
CATEGORIES:Vandring
LOCATION:Nidaros Pilegrimsgård\, Kjøpmannsgata 1\, Trondheim\, Trøndelag
 \, 7013\, Trøndelag\, Norway
X-APPLE-STRUCTURED-LOCATION;VALUE=URI;X-ADDRESS=Kjøpmannsgata 1\, Trondhei
 m\, Trøndelag\, 7013\, Trøndelag\, Norway;X-APPLE-RADIUS=100;X-TITLE=Nid
 aros Pilegrimsgård:geo:0,0
END:VEVENT
BEGIN:VTIMEZONE
TZID:Europe/Oslo
X-LIC-LOCATION:Europe/Oslo
BEGIN:DAYLIGHT
DTSTART:20200329T030000
TZOFFSETFROM:+0100
TZOFFSETTO:+0200
TZNAME:CEST
END:DAYLIGHT
END:VTIMEZONE
END:VCALENDAR