BEGIN:VCALENDAR
VERSION:2.0
PRODID:-//wp-events-plugin.com//7.2.3.1//EN
BEGIN:VEVENT
UID:507@pilegrimsfellesskapet.no
DTSTART;TZID=Europe/Oslo:20250521T193000
DTEND;TZID=Europe/Oslo:20250521T203000
DTSTAMP:20250514T192644Z
URL:https://www.pilegrimsfellesskapet.no/arrangement/de-tomme-tankers-tur-
 foredrag-med-connie-barr/
SUMMARY:De tomme tankers tur - foredrag med Connie Barr
DESCRIPTION:Pilegrimssenter Borgleden og Son pilegrimsgruppe inviterer deg 
 til foredrag med journalist og forfatter Connie Barr\; "De tomme tankers t
 ur".
ATTACH;FMTTYPE=image/jpeg:https://www.pilegrimsfellesskapet.no/wp-content/
 uploads/2025/05/Connie-Barr.png
CATEGORIES:Møter
LOCATION:Son kulturkirke\, Sagbruksveien 2\, Son\, 1555\, Akershus\, Norway
X-APPLE-STRUCTURED-LOCATION;VALUE=URI;X-ADDRESS=Sagbruksveien 2\, Son\, 155
 5\, Akershus\, Norway;X-APPLE-RADIUS=100;X-TITLE=Son kulturkirke:geo:0,0
END:VEVENT
BEGIN:VTIMEZONE
TZID:Europe/Oslo
X-LIC-LOCATION:Europe/Oslo
BEGIN:DAYLIGHT
DTSTART:20250330T030000
TZOFFSETFROM:+0100
TZOFFSETTO:+0200
TZNAME:CEST
END:DAYLIGHT
END:VTIMEZONE
END:VCALENDAR