BEGIN:VCALENDAR
VERSION:2.0
PRODID:-//wp-events-plugin.com//7.2.3.1//EN
BEGIN:VEVENT
UID:551@pilegrimsfellesskapet.no
DTSTART;TZID=Europe/Oslo:20260614T000000
DTEND;TZID=Europe/Oslo:20260622T000000
DTSTAMP:20251116T221635Z
URL:https://www.pilegrimsfellesskapet.no/arrangement/dovrefjell-til-nidaro
 sdomen/
SUMMARY:Dovrefjell til Nidarosdomen
DESCRIPTION:Opplev den klassiske pilegrimsleden fra Dovrefjells høyder til
  Nidarosdomen i Trondheim. Underveis følger du den historiske leden gjenn
 om fjell\, skog og kulturlandskap – en reise fylt av tro\, stillhet\, na
 turopplevelser og levende pilegrimstradisjon.
ATTACH;FMTTYPE=image/jpeg:https://www.pilegrimsfellesskapet.no/wp-content/
 uploads/2021/01/sign-saint-olav-way-dovre.jpg
CATEGORIES:Langvandring
END:VEVENT
BEGIN:VTIMEZONE
TZID:Europe/Oslo
X-LIC-LOCATION:Europe/Oslo
BEGIN:DAYLIGHT
DTSTART:20260329T030000
TZOFFSETFROM:+0100
TZOFFSETTO:+0200
TZNAME:CEST
END:DAYLIGHT
END:VTIMEZONE
END:VCALENDAR