BEGIN:VCALENDAR
VERSION:2.0
PRODID:-//wp-events-plugin.com//7.2.3.1//EN
BEGIN:VEVENT
UID:111@pilegrimsfellesskapet.no
DTSTART;TZID=Europe/Oslo:20211021T093000
DTEND;TZID=Europe/Oslo:20211021T151500
DTSTAMP:20211004T165915Z
URL:https://www.pilegrimsfellesskapet.no/arrangement/dovrefjellkonferansen
 -2021/
SUMMARY:Dovrefjellkonferansen 2021 - Frivilligheten i pilegrimsarbeidet
DESCRIPTION:Pilegrimssenter Dovrefjell inviterer for 11. gang til Dovrefjel
 lkonferansen - et inspirerende og lærerikt møtested for aktørene langs 
 pilegrimsleden. I 2021 er Pilegrimsfellesskapet St. Olav medarrangør og
  temaet for konferansen er: Frivilligheten i pilegrimsarbeidet. \n\nProgr
 ammet finner dere her
ATTACH;FMTTYPE=image/jpeg:https://www.pilegrimsfellesskapet.no/wp-content/
 uploads/2017/04/Dovre.jpg
CATEGORIES:Møter
LOCATION:Quality Hotel Skifer\, Ola Setroms veg 35\, Opppdal\, 7340\, Trøn
 delag\, Norway
X-APPLE-STRUCTURED-LOCATION;VALUE=URI;X-ADDRESS=Ola Setroms veg 35\, Opppda
 l\, 7340\, Trøndelag\, Norway;X-APPLE-RADIUS=100;X-TITLE=Quality Hotel Sk
 ifer:geo:0,0
END:VEVENT
BEGIN:VTIMEZONE
TZID:Europe/Oslo
X-LIC-LOCATION:Europe/Oslo
BEGIN:DAYLIGHT
DTSTART:20210328T030000
TZOFFSETFROM:+0100
TZOFFSETTO:+0200
TZNAME:CEST
END:DAYLIGHT
END:VTIMEZONE
END:VCALENDAR