BEGIN:VCALENDAR
VERSION:2.0
PRODID:-//wp-events-plugin.com//7.2.3.1//EN
BEGIN:VEVENT
UID:297@pilegrimsfellesskapet.no
DTSTART;TZID=Europe/Oslo:20231026T093000
DTEND;TZID=Europe/Oslo:20231026T151500
DTSTAMP:20230918T202944Z
URL:https://www.pilegrimsfellesskapet.no/arrangement/dovrefjellkonferansen
 -2023/
SUMMARY:Dovrefjellkonferansen 2023
DESCRIPTION:Pilegrimssenter Dovrefjell inviterer til den årlige Dovrefjell
 konferansen i samarbeid med de andre regionale pilegimssentrene langs Gudb
 randalsleden.
ATTACH;FMTTYPE=image/jpeg:https://www.pilegrimsfellesskapet.no/wp-content/
 uploads/2017/04/Dovre.jpg
CATEGORIES:Møter
LOCATION:Toftemo turiststasjon\, Vestsidevegen 1\, Dovre\, 2662 \, Norway
X-APPLE-STRUCTURED-LOCATION;VALUE=URI;X-ADDRESS=Vestsidevegen 1\, Dovre\, 2
 662 \, Norway;X-APPLE-RADIUS=100;X-TITLE=Toftemo turiststasjon:geo:0,0
END:VEVENT
BEGIN:VTIMEZONE
TZID:Europe/Oslo
X-LIC-LOCATION:Europe/Oslo
BEGIN:DAYLIGHT
DTSTART:20230326T030000
TZOFFSETFROM:+0100
TZOFFSETTO:+0200
TZNAME:CEST
END:DAYLIGHT
END:VTIMEZONE
END:VCALENDAR