BEGIN:VCALENDAR
VERSION:2.0
PRODID:-//wp-events-plugin.com//7.2.3.1//EN
BEGIN:VEVENT
UID:108@pilegrimsfellesskapet.no
DTSTART;TZID=Europe/Oslo:20211207T190000
DTEND;TZID=Europe/Oslo:20211207T210000
DTSTAMP:20211116T223552Z
URL:https://www.pilegrimsfellesskapet.no/arrangement/ekstraordinaer-genera
 lforsamling/
SUMMARY:Ekstraordinær generalforsamling
DESCRIPTION:Pilegrimsfellesskapet St. Olav arrangerer ekstraordinær genera
 lforsamling 7. desember 2021.
ATTACH;FMTTYPE=image/jpeg:https://www.pilegrimsfellesskapet.no/wp-content/
 uploads/2021/03/Pilegrimsstein.jpg
CATEGORIES:Møter
END:VEVENT
BEGIN:VTIMEZONE
TZID:Europe/Oslo
X-LIC-LOCATION:Europe/Oslo
BEGIN:STANDARD
DTSTART:20211031T020000
TZOFFSETFROM:+0200
TZOFFSETTO:+0100
TZNAME:CET
END:STANDARD
END:VTIMEZONE
END:VCALENDAR