BEGIN:VCALENDAR
VERSION:2.0
PRODID:-//wp-events-plugin.com//7.2.3.1//EN
BEGIN:VEVENT
UID:133@pilegrimsfellesskapet.no
DTSTART;TZID=Europe/Oslo:20220224T190000
DTEND;TZID=Europe/Oslo:20220224T210000
DTSTAMP:20220215T121008Z
URL:https://www.pilegrimsfellesskapet.no/arrangement/en-vandrende-pilegrim
 -pilegrimsveien-er-som-livsveien-i-medgang-og-motgang/
SUMMARY:En vandrende pilegrim - Pilegrimsveien er som livsveien i medgang o
 g motgang
DESCRIPTION:Anne-Sissel Bergum\, pilegrim og en av de mange frivillige lang
 s leden\, forteller med ord og bilder om sine erfaringer som pilegrim:\n"M
 ennesker fra alle religioner har til alle tider av ulike grunner søkt seg
  til ulike pilegrimsmål. Gjennom bilder og fortelling vil jeg dele min re
 ise til Apostelen Jakobs grav i Santiago de Compostella og til våre veier
  her hjemme.\n\nNoen kaller disse veiene for europeiske kulturveier eller 
 kulturreiser\, men det er så mye\, mye mer. Jeg har opplevd at de har læ
 rt meg mye og jeg har fått endret livsperspektiv gjennom det å vandre p
 å disse pilegrimsveiene. Ikke minst menneskemøtene underveis har gjort n
 oe med meg\, og på min vei har jeg ofte tenkt på Askeladden som alltid e
 r nysgjerrig og stoppa opp ved folk han møtte.\nJeg har lært at det nytt
 er ikke å gi opp\, livet må bygges på håp og mot.\n\nJeg er utdannet s
 ykepleier men fikk livet snudd opp ned i en ulykke i 2011\, og da jeg dro 
 alene ut på Camino Santiago i 2015 var jeg redd og usikker. En vandring p
 å 80 mil i 5 uker. Turen hadde jeg fått i 60 års gave\, men ble det et 
 eventyr..?"\n\nDet blir servert kaffe og kake etter foredraget.
ATTACH;FMTTYPE=image/jpeg:https://www.pilegrimsfellesskapet.no/wp-content/
 uploads/2022/02/Anne-Sissel-Bergum.jpg
LOCATION:Pilegrimssenter Hamar\, Storhamargata 125\, Hamar\, 2315\, Innland
 et\, Norway
X-APPLE-STRUCTURED-LOCATION;VALUE=URI;X-ADDRESS=Storhamargata 125\, Hamar\,
  2315\, Innlandet\, Norway;X-APPLE-RADIUS=100;X-TITLE=Pilegrimssenter Hama
 r:geo:0,0
END:VEVENT
BEGIN:VTIMEZONE
TZID:Europe/Oslo
X-LIC-LOCATION:Europe/Oslo
BEGIN:STANDARD
DTSTART:20211031T020000
TZOFFSETFROM:+0200
TZOFFSETTO:+0100
TZNAME:CET
END:STANDARD
END:VTIMEZONE
END:VCALENDAR