BEGIN:VCALENDAR
VERSION:2.0
PRODID:-//wp-events-plugin.com//7.2.3.1//EN
BEGIN:VEVENT
UID:141@pilegrimsfellesskapet.no
DTSTART;TZID=Europe/Oslo:20220520T110000
DTEND;TZID=Europe/Oslo:20220520T110000
DTSTAMP:20220304T125815Z
URL:https://www.pilegrimsfellesskapet.no/arrangement/en-vandrende-pilegrim
 /
SUMMARY:En vandrende pilegrim
DESCRIPTION:Anne-Sissel Bergum deler av sine erfaringer som pilegrim i live
 t.
ATTACH;FMTTYPE=image/jpeg:https://www.pilegrimsfellesskapet.no/wp-content/
 uploads/2022/02/Anne-Sissel-Bergum.jpg
CATEGORIES:Møter
LOCATION:Engehaugen kirke\, Gjennomfaret 2\, Gjøvik\, Norway
X-APPLE-STRUCTURED-LOCATION;VALUE=URI;X-ADDRESS=Gjennomfaret 2\, Gjøvik\, 
 Norway;X-APPLE-RADIUS=100;X-TITLE=Engehaugen kirke:geo:0,0
END:VEVENT
BEGIN:VTIMEZONE
TZID:Europe/Oslo
X-LIC-LOCATION:Europe/Oslo
BEGIN:DAYLIGHT
DTSTART:20220327T030000
TZOFFSETFROM:+0100
TZOFFSETTO:+0200
TZNAME:CEST
END:DAYLIGHT
END:VTIMEZONE
END:VCALENDAR