BEGIN:VCALENDAR
VERSION:2.0
PRODID:-//wp-events-plugin.com//7.2.3.1//EN
BEGIN:VEVENT
UID:205@pilegrimsfellesskapet.no
DTSTART;TZID=Europe/Oslo:20230723T000000
DTEND;TZID=Europe/Oslo:20230729T000000
DTSTAMP:20230213T114650Z
URL:https://www.pilegrimsfellesskapet.no/arrangement/fra-rennebu-kirke-til
 -nidaros-de-siste-100-km/
SUMMARY:Vandring fra Rennebu kirke til Nidaros - de siste 100 km
DESCRIPTION:Seks dagers vandring langs pilegrimsleden fra Voll kirke i Renn
 ebu til Nidaros. Vandringen kvalifiserer for Olavsbrevet.\n
ATTACH;FMTTYPE=image/jpeg:https://www.pilegrimsfellesskapet.no/wp-content/
 uploads/2017/04/Sundet.jpg
CATEGORIES:Langvandring
LOCATION:Rennebu kirke\, Orkdalsveien 1423\, Rennebu\, 7393\, Trøndelag\, 
 Norway
X-APPLE-STRUCTURED-LOCATION;VALUE=URI;X-ADDRESS=Orkdalsveien 1423\, Rennebu
 \, 7393\, Trøndelag\, Norway;X-APPLE-RADIUS=100;X-TITLE=Rennebu kirke:geo
 :0,0
END:VEVENT
BEGIN:VTIMEZONE
TZID:Europe/Oslo
X-LIC-LOCATION:Europe/Oslo
BEGIN:DAYLIGHT
DTSTART:20230326T030000
TZOFFSETFROM:+0100
TZOFFSETTO:+0200
TZNAME:CEST
END:DAYLIGHT
END:VTIMEZONE
END:VCALENDAR