BEGIN:VCALENDAR
VERSION:2.0
PRODID:-//wp-events-plugin.com//7.2.3.1//EN
BEGIN:VEVENT
UID:335@pilegrimsfellesskapet.no
DTSTART;TZID=Europe/Oslo:20240729T000000
DTEND;TZID=Europe/Oslo:20240802T000000
DTSTAMP:20240130T131621Z
URL:https://www.pilegrimsfellesskapet.no/arrangement/ga-kystpilegrimsleia-
 over-jaeren/
SUMMARY:Gå Kystpilegrimsleia over Jæren
DESCRIPTION:Utstein pilegrimsgård inviterer til pilegrimsvandring på Kyst
 pilegrimsleia frå Egersund til Stavanger.
ATTACH;FMTTYPE=image/jpeg:https://www.pilegrimsfellesskapet.no/wp-content/
 uploads/2021/12/jaeren-kysten.jpg
CATEGORIES:Kystpilegrim
END:VEVENT
BEGIN:VTIMEZONE
TZID:Europe/Oslo
X-LIC-LOCATION:Europe/Oslo
BEGIN:DAYLIGHT
DTSTART:20240331T030000
TZOFFSETFROM:+0100
TZOFFSETTO:+0200
TZNAME:CEST
END:DAYLIGHT
END:VTIMEZONE
END:VCALENDAR