BEGIN:VCALENDAR
VERSION:2.0
PRODID:-//wp-events-plugin.com//7.2.3.1//EN
BEGIN:VEVENT
UID:212@pilegrimsfellesskapet.no
DTSTART;TZID=Europe/Oslo:20230826T000000
DTEND;TZID=Europe/Oslo:20230826T000000
DTSTAMP:20230313T103827Z
URL:https://www.pilegrimsfellesskapet.no/arrangement/gudbrandsdalsleden-fr
 a-sundet-gard-til-trondheim/
SUMMARY:Gudbrandsdalsleden fra Sundet gård til Trondheim
DESCRIPTION:Pilegrimsfellesskapet St. Olav - Nidaros inviterer til vandring
  på Gudbrandsdalsleden fra Sundet gård til Trondheim. Vandringsleder er 
 Aage Gram.
ATTACH;FMTTYPE=image/jpeg:https://www.pilegrimsfellesskapet.no/wp-content/
 uploads/2017/12/St-olav-og-st-jakob-2.jpg
CATEGORIES:Dagsvandring,Pilegrimsfellesskapet St. Olav - Nidaros
END:VEVENT
BEGIN:VTIMEZONE
TZID:Europe/Oslo
X-LIC-LOCATION:Europe/Oslo
BEGIN:DAYLIGHT
DTSTART:20230326T030000
TZOFFSETFROM:+0100
TZOFFSETTO:+0200
TZNAME:CEST
END:DAYLIGHT
END:VTIMEZONE
END:VCALENDAR