BEGIN:VCALENDAR
VERSION:2.0
PRODID:-//wp-events-plugin.com//7.2.3.1//EN
BEGIN:VEVENT
UID:72@pilegrimsfellesskapet.no
DTSTART;TZID=Europe/Oslo;VALUE=DATE:20210503
DTEND;TZID=Europe/Oslo;VALUE=DATE:20210504
DTSTAMP:20210430T061734Z
URL:https://www.pilegrimsfellesskapet.no/arrangement/hagedugnad-ved-nidaro
 s-pilegrimsgard-3-mai-2021/
SUMMARY:Hagedugnad ved Nidaros Pilegrimsgård 3. mai 2021
DESCRIPTION:Nidaros Pilegrimsgård inviterer til hagedugnad\, slik at vi ka
 n få en god start på sommersesongen.\nNidarosutvalget\, hagegruppen og a
 ndre engasjerte ved pilegrimsgården er velkommen til å stille opp:\nMan 
 3. mai kl. 10:00\nArbeidet fortsetter utover ettermiddagen\, dersom noen 
 økser å delta etter arbeidstid.\nStreif Café (husets kafé) opplever at
  et av de viktigste grepene som ble gjort for å få flere gjester på bes
 øk\, var å klippe hekken og stelle i blomsterbedene. Slik ble vi mer syn
 lig og innbydende for de mange menneskene som passerer på Marinen. Dette 
 arbeidet må vi videreføre inn i årene som kommer. Heldigvis har vi en a
 ktiv hagegruppe som tar seg av det hverdagslige stellet av hagen.\nDet bli
 r servert lett lunsj og kaffe.\nVelkommen til dugnad!\n\nNidaros Pilegrims
 gård(Bilde: Nidaros Pilegrimsgård)
ATTACH;FMTTYPE=image/jpeg:https://www.pilegrimsfellesskapet.no/wp-content/
 uploads/2021/04/NPG.png
CATEGORIES:Dugnad
END:VEVENT
BEGIN:VTIMEZONE
TZID:Europe/Oslo
X-LIC-LOCATION:Europe/Oslo
BEGIN:DAYLIGHT
DTSTART:20210328T030000
TZOFFSETFROM:+0100
TZOFFSETTO:+0200
TZNAME:CEST
END:DAYLIGHT
END:VTIMEZONE
END:VCALENDAR