BEGIN:VCALENDAR
VERSION:2.0
PRODID:-//wp-events-plugin.com//7.2.3.1//EN
BEGIN:VEVENT
UID:420@pilegrimsfellesskapet.no
DTSTART;TZID=Europe/Oslo:20241028T070000
DTEND;TZID=Europe/Oslo:20241028T160000
DTSTAMP:20241015T131409Z
URL:https://www.pilegrimsfellesskapet.no/arrangement/hosttur-fra-granavoll
 en-til-pilegrimssenter-oslo/
SUMMARY:Høsttur fra Granavollen til Pilegrimssenter Oslo
DESCRIPTION:\nPilegrimsfellesskapet RiHaTo og Pilegrimssenter Granavollen i
 nviterer til høsttur til Pilegrimssenter Oslo.
ATTACH;FMTTYPE=image/jpeg:https://www.pilegrimsfellesskapet.no/wp-content/
 uploads/2020/01/StHallvardsruin.jpg
CATEGORIES:Pilegrimsfellesskapet Ringerike-Hadeland-Toten (RIHATO)
END:VEVENT
BEGIN:VTIMEZONE
TZID:Europe/Oslo
X-LIC-LOCATION:Europe/Oslo
BEGIN:STANDARD
DTSTART:20241027T020000
TZOFFSETFROM:+0200
TZOFFSETTO:+0100
TZNAME:CET
END:STANDARD
END:VTIMEZONE
END:VCALENDAR