BEGIN:VCALENDAR
VERSION:2.0
PRODID:-//wp-events-plugin.com//7.2.3.1//EN
BEGIN:VEVENT
UID:103@pilegrimsfellesskapet.no
DTSTART;TZID=Europe/Oslo:20210724T090000
DTEND;TZID=Europe/Oslo:20210729T120000
DTSTAMP:20210708T184955Z
URL:https://www.pilegrimsfellesskapet.no/arrangement/i-olavs-fotspor-en-va
 ndring-mot-tusenarsfesten-hundorp2021/
SUMMARY:I Olavs fotspor - en vandring mot tusenårsfesten - Hundorp2021
DESCRIPTION:Året 2021 markerer tusen år siden kristiningsmøte mellom Ola
 v Haraldsson og Dale-Gudbrand på Hundorp i 1021. I forbindelse med marker
 ingen arrangerer Pilegrimssenter Dale-Gudbrand og Pilegrimssenter Dovrefje
 ll vandringer fra sør (start Lillehammer) og fra nord (start Lesja) som m
 øtes på Hundorp onsdag 28. juli. Vandringene symboliserer gudbrandsdøle
 ne sin reise til Hundorp for å støtte Gudbrand av Dale og troen på de g
 amle guder.\n\nVandringen vil starte på Lillehammer med oppmøte utenfor 
 skysstasjonen 24. juni kl 0900. Deretter vil vi gå langs pilegrimsleden t
 il Øyer og Nermo Hotell. På Nermo vil det bli foredrag der Sigrid Undset
 \, Olav den Hellige og Kristin Lavransdatter er tema med Sigrun Slapgard. 
 Dagen etter vil vi gå fra Øyer til Tretten og overnatte på Borkerud pil
 egrimsloft.\n\nNeste etappe er kort og lett og går fra Borkerud til Gloms
 tad. Dag 3 går fra Tretten til Ringebu over Høgkleiva. Her treffer vi p
 å gamle forsvarsverk og gamle ferdselsårer før vi går inn på den gaml
 e kultplassen Gildesvollen.\n\nDagen etter blir det vandring inn mot Dale-
 Gudbrands gård og Tusenårsstaden. Her vil vi få formidling av gardens h
 istorie og besøke utstillinga Solrenning.\n\nSiste dag er starten på Tus
 enårsfesten og vi går i prosesjon til gudstjeneste i Sør-Fron kirke\, G
 udbrandsdalsdomen. Her avsluttes vandringen.\n\nOvernatting på herberger
  og hotell. Standard på overnattingsstedene vil varier fra hotell til enk
 le herberger og sovesaler. En kan ikke påregne enkeltrom og en stor del a
 v overnattingsstedene har dobbelt eller flersengsrom. Sengetøy er heller 
 ikke normen så sovepose må medbringes\n\nMat Frokost og middag er inklu
 dert. matpakke smøres ved frokost. Ta med vannflaske for turen.\n\nLeden/
 veien\nUnderlaget varierer fra skogstier til asfalterte veier så ta med g
 ode sko. Disse bør være av god passform og inngått på forhånd. Vi gj
 ør også oppmerksom\npå at vandring over flere dager med opptil 25 km p
 å enkelte dagsetapper kan være krevende.\n\nReiseforsikring: Hver enkelt
  turdeltaker bør ha reiseforsikring\n\nBestilling og avbestilling Bestil
 ling skjer til Pilegrimssenter Dale-Gudbrand på e-post dale-gudbrand@pile
 grimssenter.no \n\nPåmeldingsfrist 20 juli. Avbestilling innen dagen f
 ør vandringsstart kl 12 den 23. juli.
CATEGORIES:Fellesturer,Langvandring
LOCATION:Lillehammer skysstasjon\, Jernbanetorget 2\, Lillehammer\, 2609\, 
 Innlandet\, Norway
X-APPLE-STRUCTURED-LOCATION;VALUE=URI;X-ADDRESS=Jernbanetorget 2\, Lilleham
 mer\, 2609\, Innlandet\, Norway;X-APPLE-RADIUS=100;X-TITLE=Lillehammer sky
 sstasjon:geo:0,0
END:VEVENT
BEGIN:VTIMEZONE
TZID:Europe/Oslo
X-LIC-LOCATION:Europe/Oslo
BEGIN:DAYLIGHT
DTSTART:20210328T030000
TZOFFSETFROM:+0100
TZOFFSETTO:+0200
TZNAME:CEST
END:DAYLIGHT
END:VTIMEZONE
END:VCALENDAR