BEGIN:VCALENDAR
VERSION:2.0
PRODID:-//wp-events-plugin.com//7.2.3.1//EN
BEGIN:VEVENT
UID:97@pilegrimsfellesskapet.no
DTSTART;TZID=Europe/Oslo:20210729T000000
DTEND;TZID=Europe/Oslo:20210803T000000
DTSTAMP:20210615T151445Z
URL:https://www.pilegrimsfellesskapet.no/arrangement/ildsjelvandring-med-o
 lavsflammen-2021-stiklestad-trondheim/
SUMMARY:Ildsjelvandring med Olavsflammen 2021 Stiklestad - Trondheim
DESCRIPTION:Olavsflammen ble tent av Olsokbålet på Stiklestad 29. juli 20
 20 og vil brenne natt og dag helt fram til Olavs tusenårsjubileum i 2030.
  Olavsflammen har blitt et symbol på Olavsarvens historiske betydning for
  Norge\, engasjement for samtiden og håp for framtiden.\n\nHvert år fram
  mot 2030 arrangerer Nasjonaljubileet 2030 – NORGE I TUSEN ÅR en Ildsje
 lvandring der Olavsflammen bæres av ildsjelvandrere fra Stiklestad til Ni
 darosdomen\, med faglige refleksjoner underveis i vandringen. Refleksjonen
 e i årets ildsjelvandring er knyttet til begrepet rettferdighet.\n\nBli m
 ed å vandre sammen med våre Ildsjelvandrere\, og bli kjent med både led
 en\, historiene og menneskene som gir liv til den 1000 år gamle tradisjon
 en å vandre pilegrim til Nidarosdomen!\n\nFlammen reiser den samme veien 
 som Olav den Helliges kropp gjorde etter han døde i slaget på Stiklestad
 . I nattens mørke ble kroppen transportert til Trondheim og gravlagt ved 
 Nidelvens elvebredd\, der Nidarosdomen ligger i dag.\n\nFor mer informasjo
 n og påmelding\, se pilegrimsleden.no\n\n&nbsp\;
ATTACH;FMTTYPE=image/jpeg:https://www.pilegrimsfellesskapet.no/wp-content/
 uploads/2021/06/olavsflammen.png
CATEGORIES:Fellesturer,Langvandring
LOCATION:Stiklestad\, Stiklestad\, Verdal\, 7656\, Trøndelag\, Norway
X-APPLE-STRUCTURED-LOCATION;VALUE=URI;X-ADDRESS=Stiklestad\, Verdal\, 7656\
 , Trøndelag\, Norway;X-APPLE-RADIUS=100;X-TITLE=Stiklestad:geo:0,0
END:VEVENT
BEGIN:VTIMEZONE
TZID:Europe/Oslo
X-LIC-LOCATION:Europe/Oslo
BEGIN:DAYLIGHT
DTSTART:20210328T030000
TZOFFSETFROM:+0100
TZOFFSETTO:+0200
TZNAME:CEST
END:DAYLIGHT
END:VTIMEZONE
END:VCALENDAR