BEGIN:VCALENDAR
VERSION:2.0
PRODID:-//wp-events-plugin.com//7.2.3.1//EN
BEGIN:VEVENT
UID:164@pilegrimsfellesskapet.no
DTSTART;TZID=Europe/Oslo:20220728T080000
DTEND;TZID=Europe/Oslo:20220728T130000
DTSTAMP:20220609T172258Z
URL:https://www.pilegrimsfellesskapet.no/arrangement/jubileumsfeiring-med-
 frokost-pa-lian/
SUMMARY:Jubileumsfeiring med frokost på Lian
DESCRIPTION:Nasjonalt pilegrimssenter inviterer til jubileumsfeiring med fr
 okost på Lian og vandring til Nidarosdomen og åpning av årets Olavsfest
 . 
ATTACH;FMTTYPE=image/jpeg:https://www.pilegrimsfellesskapet.no/wp-content/
 uploads/2022/04/image003-scaled.jpg
CATEGORIES:Dagsvandring
LOCATION:Trikkeholdeplass St. Olavsgate\, St\, Olavsgate\, TRONDHEIM\, 7013
 \, Norway
X-APPLE-STRUCTURED-LOCATION;VALUE=URI;X-ADDRESS=St\, Olavsgate\, TRONDHEIM\
 , 7013\, Norway;X-APPLE-RADIUS=100;X-TITLE=Trikkeholdeplass St. Olavsgate:
 geo:0,0
END:VEVENT
BEGIN:VTIMEZONE
TZID:Europe/Oslo
X-LIC-LOCATION:Europe/Oslo
BEGIN:DAYLIGHT
DTSTART:20220327T030000
TZOFFSETFROM:+0100
TZOFFSETTO:+0200
TZNAME:CEST
END:DAYLIGHT
END:VTIMEZONE
END:VCALENDAR