BEGIN:VCALENDAR
VERSION:2.0
PRODID:-//wp-events-plugin.com//7.2.3.1//EN
BEGIN:VEVENT
UID:118@pilegrimsfellesskapet.no
DTSTART;TZID=Europe/Oslo:20211125T190000
DTEND;TZID=Europe/Oslo:20211125T200000
DTSTAMP:20211103T172751Z
URL:https://www.pilegrimsfellesskapet.no/arrangement/julemysteriet-og-min-
 vandring-til-betlehem-med-trond-muri/
SUMMARY:«Julemysteriet» og min vandring til Betlehem – med Trond Muri
DESCRIPTION:Pilegrimssenter Hamar inviterer til pilegrimskveld på 25. nove
 mber 2021.
ATTACH;FMTTYPE=image/jpeg:https://www.pilegrimsfellesskapet.no/wp-content/
 uploads/2021/11/Trond-Muri.jpg
CATEGORIES:Møter
LOCATION:Pilegrimssenter Hamar\, Storhamargata 125\, Hamar\, 2315\, Innland
 et\, Norway
X-APPLE-STRUCTURED-LOCATION;VALUE=URI;X-ADDRESS=Storhamargata 125\, Hamar\,
  2315\, Innlandet\, Norway;X-APPLE-RADIUS=100;X-TITLE=Pilegrimssenter Hama
 r:geo:0,0
END:VEVENT
BEGIN:VTIMEZONE
TZID:Europe/Oslo
X-LIC-LOCATION:Europe/Oslo
BEGIN:STANDARD
DTSTART:20211031T020000
TZOFFSETFROM:+0200
TZOFFSETTO:+0100
TZNAME:CET
END:STANDARD
END:VTIMEZONE
END:VCALENDAR