BEGIN:VCALENDAR
VERSION:2.0
PRODID:-//wp-events-plugin.com//7.2.3.1//EN
BEGIN:VEVENT
UID:311@pilegrimsfellesskapet.no
DTSTART;TZID=Europe/Oslo:20231128T190000
DTEND;TZID=Europe/Oslo:20231128T210000
DTSTAMP:20231122T194549Z
URL:https://www.pilegrimsfellesskapet.no/arrangement/julemysteriet-pilegri
 msvandring-fra-oslo-til-betlehem-2/
SUMMARY:Julemysteriet - pilegrimsvandring fra Oslo til Betlehem
DESCRIPTION:Skien KFUK/KFUM inviterer til møte med foredrag av Trond Muri\
 , som har vandret fra Oslo til Betlehem etter Jostein Gaarders bok "Julemy
 steriet".
ATTACH;FMTTYPE=image/jpeg:https://www.pilegrimsfellesskapet.no/wp-content/
 uploads/2023/03/Julemysteriet-alt.png
CATEGORIES:Møter
LOCATION:Skien KFUK/KFUM\, Holbergs gate 3\, Skien\, Vestfold og Telemark\,
  Norway
X-APPLE-STRUCTURED-LOCATION;VALUE=URI;X-ADDRESS=Holbergs gate 3\, Skien\, V
 estfold og Telemark\, Norway;X-APPLE-RADIUS=100;X-TITLE=Skien KFUK/KFUM:ge
 o:0,0
END:VEVENT
BEGIN:VTIMEZONE
TZID:Europe/Oslo
X-LIC-LOCATION:Europe/Oslo
BEGIN:STANDARD
DTSTART:20231029T020000
TZOFFSETFROM:+0200
TZOFFSETTO:+0100
TZNAME:CET
END:STANDARD
END:VTIMEZONE
END:VCALENDAR