BEGIN:VCALENDAR
VERSION:2.0
PRODID:-//wp-events-plugin.com//7.2.3.1//EN
BEGIN:VEVENT
UID:312@pilegrimsfellesskapet.no
DTSTART;TZID=Europe/Oslo:20231130T190000
DTEND;TZID=Europe/Oslo:20231130T210000
DTSTAMP:20231122T194458Z
URL:https://www.pilegrimsfellesskapet.no/arrangement/julemysteriet-pilegri
 msvandring-fra-oslo-til-betlehem-3/
SUMMARY:Torsdagsforum: Julemysteriet - pilegrimsvandring fra Oslo til Betle
 hem
DESCRIPTION:Holmestrand menighet inviterer til møte med foredrag av Trond 
 Muri\, som har vandret fra Oslo til Betlehem etter Jostein Gaarders bok "J
 ulemysteriet".
ATTACH;FMTTYPE=image/jpeg:https://www.pilegrimsfellesskapet.no/wp-content/
 uploads/2023/03/Julemysteriet-alt.png
CATEGORIES:Møter
LOCATION:Speiderhuset\, Nygårdsveien 1 A\, Holmestrand\, Vestfold og Telem
 ark\, Norway
X-APPLE-STRUCTURED-LOCATION;VALUE=URI;X-ADDRESS=Nygårdsveien 1 A\, Holmest
 rand\, Vestfold og Telemark\, Norway;X-APPLE-RADIUS=100;X-TITLE=Speiderhus
 et:geo:0,0
END:VEVENT
BEGIN:VTIMEZONE
TZID:Europe/Oslo
X-LIC-LOCATION:Europe/Oslo
BEGIN:STANDARD
DTSTART:20231029T020000
TZOFFSETFROM:+0200
TZOFFSETTO:+0100
TZNAME:CET
END:STANDARD
END:VTIMEZONE
END:VCALENDAR