BEGIN:VCALENDAR
VERSION:2.0
PRODID:-//wp-events-plugin.com//7.2.3.1//EN
BEGIN:VEVENT
UID:313@pilegrimsfellesskapet.no
DTSTART;TZID=Europe/Oslo:20231207T110000
DTEND;TZID=Europe/Oslo:20231207T130000
DTSTAMP:20231122T194313Z
URL:https://www.pilegrimsfellesskapet.no/arrangement/julemysteriet-pilegri
 msvandring-fra-oslo-til-betlehem-4/
SUMMARY:Julemysteriet - pilegrimsvandring fra Oslo til Betlehem
DESCRIPTION:Svelvik menighet inviterer til møte med foredrag av Trond Muri
 \, som har vandret fra Oslo til Betlehem etter Jostein Gaarders bok "Julem
 ysteriet".
ATTACH;FMTTYPE=image/jpeg:https://www.pilegrimsfellesskapet.no/wp-content/
 uploads/2023/03/Julemysteriet-alt.png
CATEGORIES:Møter
LOCATION:Kirkestua Svelvik\, Storgaten\, Svelvik\, Vestfold og Telemark\, N
 orway
X-APPLE-STRUCTURED-LOCATION;VALUE=URI;X-ADDRESS=Storgaten\, Svelvik\, Vestf
 old og Telemark\, Norway;X-APPLE-RADIUS=100;X-TITLE=Kirkestua Svelvik:geo:
 0,0
END:VEVENT
BEGIN:VTIMEZONE
TZID:Europe/Oslo
X-LIC-LOCATION:Europe/Oslo
BEGIN:STANDARD
DTSTART:20231029T020000
TZOFFSETFROM:+0200
TZOFFSETTO:+0100
TZNAME:CET
END:STANDARD
END:VTIMEZONE
END:VCALENDAR