BEGIN:VCALENDAR
VERSION:2.0
PRODID:-//wp-events-plugin.com//7.2.3.1//EN
BEGIN:VEVENT
UID:318@pilegrimsfellesskapet.no
DTSTART;TZID=Europe/Oslo:20250309T190000
DTEND;TZID=Europe/Oslo:20250309T210000
DTSTAMP:20250303T233444Z
URL:https://www.pilegrimsfellesskapet.no/arrangement/julemysteriet-pilegri
 msvandring-fra-oslo-til-betlehem-8/
SUMMARY:Julemysteriet - pilegrimsvandring fra Oslo til Betlehem
DESCRIPTION:Jæren pilegrimsutvalg inviterer til pilegrimskveld med tema: 
 «Frå Steen&Strøm til Betlehem». Trond Muri forteller om sin vandring e
 tter Jostein Gaarders bok "Julemysteriet". Musikkinnslag på fiolin av Lar
 s Ole Bergersen.
ATTACH;FMTTYPE=image/jpeg:https://www.pilegrimsfellesskapet.no/wp-content/
 uploads/2023/03/Julemysteriet-alt.png
CATEGORIES:Møter
LOCATION:Bryne kyrkje\, Bryne\, Bryne\, Rogaland\, Norway
X-APPLE-STRUCTURED-LOCATION;VALUE=URI;X-ADDRESS=Bryne\, Bryne\, Rogaland\, 
 Norway;X-APPLE-RADIUS=100;X-TITLE=Bryne kyrkje:geo:0,0
END:VEVENT
BEGIN:VTIMEZONE
TZID:Europe/Oslo
X-LIC-LOCATION:Europe/Oslo
BEGIN:STANDARD
DTSTART:20241027T020000
TZOFFSETFROM:+0200
TZOFFSETTO:+0100
TZNAME:CET
END:STANDARD
END:VTIMEZONE
END:VCALENDAR