BEGIN:VCALENDAR
VERSION:2.0
PRODID:-//wp-events-plugin.com//7.2.3.1//EN
BEGIN:VEVENT
UID:310@pilegrimsfellesskapet.no
DTSTART;TZID=Europe/Oslo:20231124T180000
DTEND;TZID=Europe/Oslo:20231124T200000
DTSTAMP:20231122T194014Z
URL:https://www.pilegrimsfellesskapet.no/arrangement/julemysteriet-pilegri
 msvandring-fra-oslo-til-betlehem/
SUMMARY:Julemysteriet - pilegrimsvandring fra Oslo til Betlehem
DESCRIPTION:Tønsberg Normisjon inviterer til møte med foredrag av Trond M
 uri\, som har vandret fra Oslo til Betlehem etter Jostein Gaarders bok "Ju
 lemysteriet".
ATTACH;FMTTYPE=image/jpeg:https://www.pilegrimsfellesskapet.no/wp-content/
 uploads/2023/03/Julemysteriet-alt.png
CATEGORIES:Møter
LOCATION:Solvangkirken\, Wergelands veg 3\, Tønsberg\, Vestfold og Telemar
 k\, Norway
X-APPLE-STRUCTURED-LOCATION;VALUE=URI;X-ADDRESS=Wergelands veg 3\, Tønsber
 g\, Vestfold og Telemark\, Norway;X-APPLE-RADIUS=100;X-TITLE=Solvangkirken
 :geo:0,0
END:VEVENT
BEGIN:VTIMEZONE
TZID:Europe/Oslo
X-LIC-LOCATION:Europe/Oslo
BEGIN:STANDARD
DTSTART:20231029T020000
TZOFFSETFROM:+0200
TZOFFSETTO:+0100
TZNAME:CET
END:STANDARD
END:VTIMEZONE
END:VCALENDAR