BEGIN:VCALENDAR
VERSION:2.0
PRODID:-//wp-events-plugin.com//7.2.3.1//EN
BEGIN:VEVENT
UID:434@pilegrimsfellesskapet.no
DTSTART;TZID=Europe/Oslo:20241127T180000
DTEND;TZID=Europe/Oslo:20241127T200000
DTSTAMP:20241113T173024Z
URL:https://www.pilegrimsfellesskapet.no/arrangement/julemysteriet-trond-m
 uri-pa-pilegrimsreise/
SUMMARY:Julemysteriet: Trond Muri på pilegrimsreise
DESCRIPTION:Ålesund bibliotek Moa inviterer til en vandring gjennom ord og
  bilder med Trond Muri som har vandret fra Oslo til Betlehem etter Jostein
  Gaarders bok «Julemysteriet».\n
ATTACH;FMTTYPE=image/jpeg:https://www.pilegrimsfellesskapet.no/wp-content/
 uploads/2023/03/Julemysteriet-alt.png
CATEGORIES:Møter
LOCATION:Ålesund Bibliotek Moa\, Langelandsvegen 35\, Spjelkavik\, 6010\, 
 Møre og Romsdal\, Norway
X-APPLE-STRUCTURED-LOCATION;VALUE=URI;X-ADDRESS=Langelandsvegen 35\, Spjelk
 avik\, 6010\, Møre og Romsdal\, Norway;X-APPLE-RADIUS=100;X-TITLE=Ålesun
 d Bibliotek Moa:geo:0,0
END:VEVENT
BEGIN:VTIMEZONE
TZID:Europe/Oslo
X-LIC-LOCATION:Europe/Oslo
BEGIN:STANDARD
DTSTART:20241027T020000
TZOFFSETFROM:+0200
TZOFFSETTO:+0100
TZNAME:CET
END:STANDARD
END:VTIMEZONE
END:VCALENDAR