BEGIN:VCALENDAR
VERSION:2.0
PRODID:-//wp-events-plugin.com//7.2.3.1//EN
BEGIN:VEVENT
UID:252@pilegrimsfellesskapet.no
DTSTART;TZID=Europe/Oslo:20230416T120000
DTEND;TZID=Europe/Oslo:20230416T153000
DTSTAMP:20230330T230921Z
URL:https://www.pilegrimsfellesskapet.no/arrangement/klosterelva/
SUMMARY:Pilegrimsvandring mot Klosterelvas kilder - fra eikesletta via Lund
 en kloster til Oslos største kastestein
DESCRIPTION:\n\n\n\n\n\n\n\n\n\n\n\n\n\n\n\n\n.\n\n\n\n\n\n\n\n\n\n\n\n\n\n
 Turens mål er dette skiltet. Steinen i bakgrunnen er Kastesteinens lilleb
 ror. \n.\n..\nVelkommen til en vårlig 7-8 km pilegrimsvandring langs den
  delen av Klosterelva/Hovinbekken som går i området fra "eikeenga" Øker
 n til Kastesteinen på Hadelandsveien.\n.\nVi møtes kl. 1200 på lokket o
 ver Økern T-banestasjon - bussplattform B.\n.\nI middelalder-Oslo møtte 
 Klosterelva Oslofjorden ved Nonneseter kloster. Den elva var byområdets n
 ordlige bygrense\, mens Alnaelva var sørgrensa. Se bykartet nedenfor.\nI 
 romanen "Kransen" plasserte Sigrid Undset hovedpersonen Kristin Lavransdat
 ter som novise nettopp på Nonneseter kloster.\n.\nHadelandsveien var en k
 løv- og ridesti som opprinnelig startet ved foten av Grefsenåsen. På 17
 00-tallet ble trafikken flyttet over på en kongevei med bedre standard.\n
 \n\n.\n\nFra vandringens startpunkt skimter vi Østre Aker kirke\, som er 
 et merkested på Gudbrandsdalsledens østre rute gjennom Groruddalen. Øst
 re Aker kirke ble bygd på 1800-tallet. Før dette fantes det bare én kir
 ke i hele Aker\, nemlig Gamle Aker kirke\, som er Oslos eldste bygg i akti
 v bruk.\n\n.\n\nFra Økern følger vi Klosterelva/Hovinbekken\, som går n
 ordover i en sidedal til Groruddalen. Vi tar en liten avstikker til Lunden
  kloster\, som ble grunnlagt av dominikanerinner fra Lourdes i 1951. Dagen
 s bygninger er fra 1966.\nVi går deretter langs elva gjennom et av Oslos 
 mest verneverdige edelløvskogområder og innom utsikten på toppen av År
 vollbakken. På en klar dag ser vi glimt av både Borgleden\, Tunsberglede
 n og de to Gudbrandsdalsledene derifra.\nEtter en ny\, grønn etappe passe
 rer vi Øvre isdam og oppsøker varpets lykke og hell. Kanskje varer effek
 ten vandresesongen ut? Så går vi ut av skogen og avslutter med en kafér
 ast på orrfuglvollen =&gt\; Årravellir =&gt\;.Årvoll gård.\n\n.\n\nPra
 ktisk info:\n\n 	Økern T er stoppested for både T-bane 4 Vestli/Bergkrys
 tallen og flere busslinjer.\n 	Ruta går jevnt 150 høydemeter opp\, og de
 retter 75 høydemeter ned.\n 	Vi vandrer på en blanding av fast dekke\, g
 rus og etablerte skogsstier. Velg sko etter vær.\n 	Vi tar en matpause el
 ler to underveis. Husk drikke!\n 	Ca. 2 km etter start passerer vi et spis
 ested med nistekjøpemulighet og offentlig toalett.\n 	Litt før 4 km krys
 ser vi busslinje 31.\n 	Rundt 4 km etter start går vi inn i skog med gans
 ke tett vegetasjon.\n 	Senest etter 8 km kan vi sette oss ned på Årvoll 
 gård\, som har åpen søndagskafé (og toaletter) denne dagen.\n 	Fra År
 voll gård går 31-bussen hvert 10.minutt mot Sinsen\, Oslo sentrum og Lys
 aker.\n 	Flybussen går fra Bjerke på Trondheimsveien - 900 m unna Årvol
 l gård. Turlederne avslutter der.\n\nUnderveis informeres det om pilegrim
 sledene i Norge og vi utveksler vandringserfaringer.\n\n.\n\nVel møtt!\nH
 ilsen Kim\, Grethe og Kristin\n\n\n.\n\nPS: Her er rutekartet for vandring
 en. Vi starter vandringen på Økern T ved Østre Aker vei\, slik at vi re
 kker fram til Årvoll gård innenfor deres åpningstid.\n.\nMerk at Østre
  Aker kirke (pilegrimsstempelsted) ligger i grønt område i nedre kartkan
 t. På egen hånd kan du altså starte dagen ved milesteinen i St.Hallvard
 skirkeruinen og vandre Gudbrandsdalsleden østover til Østre Aker kirke. 
 Derifra svinger du nordvestover og går 1 km på fortau fram til vårt sta
 rtpunkt. (Lengde fra milesteinen: 6 km)\n\n\n&nbsp\;\n\n\nRestene etter No
 nneseter kloster ligger under bakken i krysset Grønlandsleiret 73 - Schwe
 igaards gate 55\, nær politihuset på Grønland.\nPå det meste skal klos
 teret ha eid 272 gårder på Østlandet. Vår tur går over markene til fl
 ere av dem.\n\n\nFra oppslagstavlene langs elva\n\n\n\nStartstedet. Vi anb
 efaler en tur i takparken på Økern portal (bygget til høyre bak skiltet
 ) hvis du er tidlig ute. Beregn minst 45 min ekstra for dette.\nFra taket 
 kan du se både Hovedøya\, Borgledens trasé over Ekeberg og du kan ane G
 amle Oslos lune plassering oppunder berget.\n\n\n\n\n.\n\n \nMange grunne
 iere har en bit av Klosterelva rennende over sin tomt. Noen gjør mer ut a
 v det enn andre. Og noen fisker ørret fra terrassen.\n\n\n\n\n.\nOslo kom
 mune restaurert flere grøntområder med 'åpen elv' for alle. Her i Norda
 lveien.\n.\n\nBjerkedalsdammen\n\n\n\nLunden kloster\n\n\n\n\nSykkelstien 
 på Trondheimsveien krysser Klosterelva på solid og elegant vis. Fra denn
 e brua går du Bekkedalen oppover mot Årvolldammen.\n.\n\n\n\n\n\n\n\nÅr
 volldammen\n\n\n\nØvre isdam\n\n\n\nMerk at pinner er likeverdig med stei
 ner\n\n\n\nKastesteinen\n\n\n\nSånn kan det gå\, hvis man kaster feil ti
 ng.
CATEGORIES:Pilegrimsfellesskapet St. Hallvard av Oslo,Vandring
LOCATION:Økern\, Økern T-bane\, bussperrong B/C\, Oslo\, Norway
X-APPLE-STRUCTURED-LOCATION;VALUE=URI;X-ADDRESS=Økern T-bane\, bussperrong
  B/C\, Oslo\, Norway;X-APPLE-RADIUS=100;X-TITLE=Økern:geo:0,0
END:VEVENT
BEGIN:VTIMEZONE
TZID:Europe/Oslo
X-LIC-LOCATION:Europe/Oslo
BEGIN:DAYLIGHT
DTSTART:20230326T030000
TZOFFSETFROM:+0100
TZOFFSETTO:+0200
TZNAME:CEST
END:DAYLIGHT
END:VTIMEZONE
END:VCALENDAR