BEGIN:VCALENDAR
VERSION:2.0
PRODID:-//wp-events-plugin.com//7.2.3.1//EN
BEGIN:VEVENT
UID:56@pilegrimsfellesskapet.no
DTSTART;TZID=Europe/Oslo:20210910T000000
DTEND;TZID=Europe/Oslo:20210911T000000
DTSTAMP:20210823T153519Z
URL:https://www.pilegrimsfellesskapet.no/arrangement/kystpilegrimskonferan
 se-pa-smola-2/
SUMMARY:Kystpilegrimskonferanse på Smøla
DESCRIPTION:Regionalt pilegrimssenter Smøla inviterer til Kystpilegrimskon
 feranse.
ATTACH;FMTTYPE=image/jpeg:https://www.pilegrimsfellesskapet.no/wp-content/
 uploads/2020/11/⁯Edøy-kirke.jpg
CATEGORIES:Møter
LOCATION:Gurisenteret\, Smøla\, Smøla\, Smøla\, Møre og Romsdal\, Norwa
 y
X-APPLE-STRUCTURED-LOCATION;VALUE=URI;X-ADDRESS=Smøla\, Smøla\, Møre og 
 Romsdal\, Norway;X-APPLE-RADIUS=100;X-TITLE=Gurisenteret\, Smøla:geo:0,0
END:VEVENT
BEGIN:VTIMEZONE
TZID:Europe/Oslo
X-LIC-LOCATION:Europe/Oslo
BEGIN:DAYLIGHT
DTSTART:20210328T030000
TZOFFSETFROM:+0100
TZOFFSETTO:+0200
TZNAME:CEST
END:DAYLIGHT
END:VTIMEZONE
END:VCALENDAR