BEGIN:VCALENDAR
VERSION:2.0
PRODID:-//wp-events-plugin.com//7.2.3.1//EN
BEGIN:VEVENT
UID:128@pilegrimsfellesskapet.no
DTSTART;TZID=Europe/Oslo:20220519T100000
DTEND;TZID=Europe/Oslo:20220520T100000
DTSTAMP:20220512T091135Z
URL:https://www.pilegrimsfellesskapet.no/arrangement/kystpilegrimskonferan
 sen-2022/
SUMMARY:Kystpilegrimskonferansen 2022
DESCRIPTION:Kystpilegrimskonferansen 2022 arrangeres på Avaldsnes 19.-20. 
 mai.
ATTACH;FMTTYPE=image/jpeg:https://www.pilegrimsfellesskapet.no/wp-content/
 uploads/2021/12/Kystpilegrimskonferansen-2022.jpg
CATEGORIES:Møter
LOCATION:Avaldsnes kirke\, Kong Augvalds veg\, Avaldsnes\, 4262\, Rogaland\
 , Norway
X-APPLE-STRUCTURED-LOCATION;VALUE=URI;X-ADDRESS=Kong Augvalds veg\, Avaldsn
 es\, 4262\, Rogaland\, Norway;X-APPLE-RADIUS=100;X-TITLE=Avaldsnes kirke:g
 eo:0,0
END:VEVENT
BEGIN:VTIMEZONE
TZID:Europe/Oslo
X-LIC-LOCATION:Europe/Oslo
BEGIN:DAYLIGHT
DTSTART:20220327T030000
TZOFFSETFROM:+0100
TZOFFSETTO:+0200
TZNAME:CEST
END:DAYLIGHT
END:VTIMEZONE
END:VCALENDAR