BEGIN:VCALENDAR
VERSION:2.0
PRODID:-//wp-events-plugin.com//7.2.3.1//EN
BEGIN:VEVENT
UID:305@pilegrimsfellesskapet.no
DTSTART;TZID=Europe/Oslo:20231107T000000
DTEND;TZID=Europe/Oslo:20231108T000000
DTSTAMP:20231010T184836Z
URL:https://www.pilegrimsfellesskapet.no/arrangement/kystpilegrimskonferan
 sen-2023/
SUMMARY:Kystpilegrimskonferansen 2023
DESCRIPTION:De regionale pilegrimssentrene langs Kystpilegrimsleia invitere
 r til Kystpilegrimskonferansen 2023\, i Bergen 7.-8. november.
ATTACH;FMTTYPE=image/jpeg:https://www.pilegrimsfellesskapet.no/wp-content/
 uploads/2023/10/Kystpilegrimsleia.jpg
CATEGORIES:Kystpilegrim
LOCATION:Nykirken i Bergen\, Strandgaten 197 B\, Bergen\, 5004\, Hordaland\
 , Norway
X-APPLE-STRUCTURED-LOCATION;VALUE=URI;X-ADDRESS=Strandgaten 197 B\, Bergen\
 , 5004\, Hordaland\, Norway;X-APPLE-RADIUS=100;X-TITLE=Nykirken i Bergen:g
 eo:0,0
END:VEVENT
BEGIN:VTIMEZONE
TZID:Europe/Oslo
X-LIC-LOCATION:Europe/Oslo
BEGIN:STANDARD
DTSTART:20231029T020000
TZOFFSETFROM:+0200
TZOFFSETTO:+0100
TZNAME:CET
END:STANDARD
END:VTIMEZONE
END:VCALENDAR