BEGIN:VCALENDAR
VERSION:2.0
PRODID:-//wp-events-plugin.com//7.2.3.1//EN
BEGIN:VEVENT
UID:410@pilegrimsfellesskapet.no
DTSTART;TZID=Europe/Oslo:20241007T180000
DTEND;TZID=Europe/Oslo:20241007T210000
DTSTAMP:20240922T210811Z
URL:https://www.pilegrimsfellesskapet.no/arrangement/labyrintvandring-i-he
 lgerud-kirke/
SUMMARY:Labyrintvandring i Helgerud kirke
DESCRIPTION:Helgerud menighet inviterer til labyrintvandring.
ATTACH;FMTTYPE=image/jpeg:https://www.pilegrimsfellesskapet.no/wp-content/
 uploads/2024/09/Labyrintvandring.jpg
CATEGORIES:Dagsvandring
LOCATION:Helgerud kirke\, Sokneprest Munthe-Kaas vei 1\, Gjettum\, 1346\, A
 kershus\, Norway
X-APPLE-STRUCTURED-LOCATION;VALUE=URI;X-ADDRESS=Sokneprest Munthe-Kaas vei 
 1\, Gjettum\, 1346\, Akershus\, Norway;X-APPLE-RADIUS=100;X-TITLE=Helgerud
  kirke:geo:0,0
END:VEVENT
BEGIN:VTIMEZONE
TZID:Europe/Oslo
X-LIC-LOCATION:Europe/Oslo
BEGIN:DAYLIGHT
DTSTART:20240331T030000
TZOFFSETFROM:+0100
TZOFFSETTO:+0200
TZNAME:CEST
END:DAYLIGHT
END:VTIMEZONE
END:VCALENDAR