BEGIN:VCALENDAR
VERSION:2.0
PRODID:-//wp-events-plugin.com//7.2.3.1//EN
BEGIN:VEVENT
UID:186@pilegrimsfellesskapet.no
DTSTART;TZID=Europe/Oslo:20230827T000000
DTEND;TZID=Europe/Oslo:20230911T000000
DTSTAMP:20230105T095914Z
URL:https://www.pilegrimsfellesskapet.no/arrangement/langs-nordleden-til-n
 idarosdomen/
SUMMARY:Langs Nordleden til Nidarosdomen
DESCRIPTION:Pilegrimsvandring langs Nordleden fra Gløshaug kirke i Grong v
 ia Stiklestad og til slutt langs kysten til Trondheim og Nidarosdomen.
ATTACH;FMTTYPE=image/jpeg:https://www.pilegrimsfellesskapet.no/wp-content/
 uploads/2020/06/Vandring-Stiklestad-Trondheim.jpg
CATEGORIES:Langvandring
LOCATION:Gløshaug kirke\, Grong\, Grong\, 7870\, Trøndelag\, Norway
X-APPLE-STRUCTURED-LOCATION;VALUE=URI;X-ADDRESS=Grong\, Grong\, 7870\, Trø
 ndelag\, Norway;X-APPLE-RADIUS=100;X-TITLE=Gløshaug kirke:geo:0,0
END:VEVENT
BEGIN:VTIMEZONE
TZID:Europe/Oslo
X-LIC-LOCATION:Europe/Oslo
BEGIN:DAYLIGHT
DTSTART:20230326T030000
TZOFFSETFROM:+0100
TZOFFSETTO:+0200
TZNAME:CEST
END:DAYLIGHT
END:VTIMEZONE
END:VCALENDAR