BEGIN:VCALENDAR
VERSION:2.0
PRODID:-//wp-events-plugin.com//7.2.3.1//EN
BEGIN:VEVENT
UID:450@pilegrimsfellesskapet.no
DTSTART;TZID=Europe/Oslo:20250529T100000
DTEND;TZID=Europe/Oslo:20250529T180000
DTSTAMP:20250124T145029Z
URL:https://www.pilegrimsfellesskapet.no/arrangement/langs-tunsbergleden-f
 ra-larvik-til-sandefjord/
SUMMARY:Langs Tunsbergleden fra Larvik til Sandefjord
DESCRIPTION:Pilegrimsfellesskapet Sandefjord i samarbeid med Kirken i Larvi
 k og Sandefjord inviterer til vandring fra Larvik kirke til Olavs kapell i
  Sandefjord. Det er mulig å koble seg på vandringen underveis.
ATTACH;FMTTYPE=image/jpeg:https://www.pilegrimsfellesskapet.no/wp-content/
 uploads/2023/04/Kart-Sandefjord-Larvik.jpg
CATEGORIES:Dagsvandring,Fellesturer,Pilegrimsfellesskapet Sandefjord
LOCATION:Larvik kirke\, Colin Archers gate 10\, Larvik\, 3263\, Vestfold\, 
 Norway
X-APPLE-STRUCTURED-LOCATION;VALUE=URI;X-ADDRESS=Colin Archers gate 10\, Lar
 vik\, 3263\, Vestfold\, Norway;X-APPLE-RADIUS=100;X-TITLE=Larvik kirke:geo
 :0,0
END:VEVENT
BEGIN:VTIMEZONE
TZID:Europe/Oslo
X-LIC-LOCATION:Europe/Oslo
BEGIN:DAYLIGHT
DTSTART:20250330T030000
TZOFFSETFROM:+0100
TZOFFSETTO:+0200
TZNAME:CEST
END:DAYLIGHT
END:VTIMEZONE
END:VCALENDAR