BEGIN:VCALENDAR
VERSION:2.0
PRODID:-//wp-events-plugin.com//7.2.3.1//EN
BEGIN:VEVENT
UID:117@pilegrimsfellesskapet.no
DTSTART;TZID=Europe/Oslo:20211106T140000
DTEND;TZID=Europe/Oslo:20211106T163000
DTSTAMP:20211102T161349Z
URL:https://www.pilegrimsfellesskapet.no/arrangement/laudato-si-vandring-i
 -bragernesasen/
SUMMARY:Laudato si! - Vandring i Bragernesåsen
DESCRIPTION:Pilegrimsforeningen st. Hallvard av Huseby inviterer til pilegr
 imsvandring fra Bragernes i Drammen og opp til Spiraltoppen.
CATEGORIES:Dagsvandring,Fellesturer,Pilegrimsforeningen St. Hallvard av
 Huseby
LOCATION:Den den katolske kirken i Drammen\, St. Laurentius\, Cappelens gat
 e 1\, Drammen\, Viken\, Norway
X-APPLE-STRUCTURED-LOCATION;VALUE=URI;X-ADDRESS=Cappelens gate 1\, Drammen\
 , Viken\, Norway;X-APPLE-RADIUS=100;X-TITLE=Den den katolske kirken i Dram
 men\, St. Laurentius:geo:0,0
END:VEVENT
BEGIN:VTIMEZONE
TZID:Europe/Oslo
X-LIC-LOCATION:Europe/Oslo
BEGIN:STANDARD
DTSTART:20211031T020000
TZOFFSETFROM:+0200
TZOFFSETTO:+0100
TZNAME:CET
END:STANDARD
END:VTIMEZONE
END:VCALENDAR