BEGIN:VCALENDAR
VERSION:2.0
PRODID:-//wp-events-plugin.com//7.2.3.1//EN
BEGIN:VEVENT
UID:64@pilegrimsfellesskapet.no
DTSTART;TZID=Europe/Oslo:20210501T120000
DTEND;TZID=Europe/Oslo:20210501T170000
DTSTAMP:20210427T212316Z
URL:https://www.pilegrimsfellesskapet.no/arrangement/lordagsvandring-mello
 m-pilegrimsmal-i-oslo-sentrum-runde-2/
SUMMARY:Lørdagsvandring mellom pilegrimsmål i Oslo sentrum (runde 2)
DESCRIPTION:\n\n\nPÅMELDINGSINFO\n.\nVANDRINGEN ER FULLTEGNET\n.\nTURBESKR
 IVELSE\n\n. \nPilegrimsfellesskapet St.Hallvard av Oslo inviterer til run
 dvandring i Oslo sentrum\, med start og slutt ved Oslo domkirke på Storto
 rvet.\n.\nBli med på lørdagsvandring i den delende pilegrimens ånd. Spe
 nnende fortellinger venter!\nNye og gamle venner ønskes velkommen til fys
 isk aktivitet og sosiale opplevelser.\nTuren går på jevnt underlag og pa
 sser for alle som kan rusle 9 km i strekk.\n.\nTurledere: Kim Elisabet-Kri
 stin Sollie\, Lynn Rosentrater og Kristin Øveraas.\nLeder av Regionalt pi
 legrimssenter Oslo - Anna Runesson - er vår guide ved flere av pilegrimsp
 unktene.\n.\nTURBESKRIVELSE\n11:00 - oppmøte ved Oslo domkirkes hoveddør
 \n12:30 ca. - utendørs matpause på benk/trapp\n16:00 - seneste retur til
  Stortorvet.\n*\n9 km rolig gange med jevnlige stopp for informasjonsdelin
 g.\nAlle oppfordres til å dele sin kunnskap på inspirasjon underveis!\nT
 uren gjennomføres uten værforbehold.\n*\nTa med:\n* Niste\, drikke og si
 tteunderlag\n* Munnbind til bruk ved behov\n* Klær etter vær\n* Middelal
 derkirkepass\, hvis du har\n* Historisk Oslo-kunnskap å dele med gruppen\
 n.\n«Pilegrimspass for middelalderkirker på Østlandet» stemples av tur
 lederne ved St.Hallvardskatedralruinen og ved Gamle Aker kirke.\n.\nHar du
  spørsmål like før turstart\, kan du ta kontakt med turlederne i kommen
 tarfeltet på PSHs Facebook-arrangement.\n.\nRUTEBESKRIVELSE\nOslo domkirk
 e\, Christiania torv\, over Akershus festning\, rundt/over operaen\, via B
 ispevika til Middelalderparkens ruiner etter St.Hallvardkatedralen og Olav
 sklosteret. Deretter følger vi Nordre strete forbi Oslos største kirke -
  Grønland kirke\, før vi går oppom den fredede St.Hallvard kirke/kloste
 r på Enerhaugen. Like etter krysser vi den vestlige pilegrimsleden og vel
 ger veien viaTøyen/Tadvin hovedgård\, som er Oslos eldste bevarte trebyg
 ning og hvor Hans Nilsen Hauge har 'signert' en vindusrute.  Så vandrer 
 vi forbi den jødiske kirkegården i Sofienbergparken\, krysser Akerselva 
 i Kubaparken og går opp Telthusbakken til Gamle Aker kirke - Oslos eldste
  steinbygning i daglig bruk. Få meter unna ligger Pilegrimssenter Oslo p
 å turens høyeste punkt - 51 meter over havet. På nedtur passerer vi Vå
 r Frelsers gravlund med Henrik Wergelands gravminne\, Den russisk-ortodoks
 e kirken St.Olga\, St.Olav bokhandel\, St.Olav katolske domkirke\, den gre
 sk-ortodokse kirken\, Svenske Margaretakyrkan\, St.Edmunds Church og går 
 Møllergata/Mølleveien tilbake til start.\n.\nPRAKTISK INFO\nVandringen f
 oregår kun utendørs\, men innenfor dagens restriksjoner vil være tilgan
 g til toaletter på minst to steder langs ruta. Ett før vi forlater kvadr
 aturen og ett (for anledningen) på pilegrimssenteret i Akersbakken.\n.\nL
 enker\nMer om Pilegrimspass for Middelalderkirker på Østlandet
CATEGORIES:Dagsvandring,Pilegrimsfellesskapet St. Hallvard av
 Oslo,Vandring
END:VEVENT
BEGIN:VTIMEZONE
TZID:Europe/Oslo
X-LIC-LOCATION:Europe/Oslo
BEGIN:DAYLIGHT
DTSTART:20210328T030000
TZOFFSETFROM:+0100
TZOFFSETTO:+0200
TZNAME:CEST
END:DAYLIGHT
END:VTIMEZONE
END:VCALENDAR