BEGIN:VCALENDAR
VERSION:2.0
PRODID:-//wp-events-plugin.com//7.2.3.1//EN
BEGIN:VEVENT
UID:85@pilegrimsfellesskapet.no
DTSTART;TZID=Europe/Oslo:20210612T110000
DTEND;TZID=Europe/Oslo:20210612T160000
DTSTAMP:20210602T143841Z
URL:https://www.pilegrimsfellesskapet.no/arrangement/lordagsvandring-til-f
 rogner-gamle-kirke-myhrer-gard-og-over-farseggen/
SUMMARY:Lørdagsvandring til Frogner gamle kirke\, Myhrer gård og over Far
 seggen (NB! - kun 20 plasser)
DESCRIPTION:\n\n\n\nPilegrimsfellesskapet St.Hallvard av Oslo inviterer til
  lørdagsvandring i juni\, der Frogner gamle kirke i Lillestrøm kommune e
 r hovedmålet.\n\n\n.\nFrogner gamle kirke ble bygget rundt år 1180. På 
 1300-tallet var den sognekirke for den vestre delen av Sørum.\nDen var i 
 løpende bruk fram til den brant i 1918. Dagens kirke er gjenoppbygget fra
  murene som sto igjen. På en stein i muren like vest for sørportalen ble
  det etter brannen funnet en runeinnskrift som er tolket til: Gud signe de
 n mann som gjorde\, og den som lot gjøre\, det er Erling Loftssøn.\n.\nF
 rogner menighet stiller med vertskap i kirka. Vår hovedkontakt er Helge S
 eiertun.\nLillestrøm kulturskole stiller med musikkinnslag.\nTurledere: L
 ynn Rosentrater og Kristin Øveraas\, evt. flere.\n\nPr. 1.6.2021 sier kom
 munale regler at vi må begrense antallet deltakere til 20. Send derfor di
 tt ønske om påmelding på epost til pf.st.hallvard@hotmail.com. \n.\nTU
 RBESKRIVELSE\n10:14-toget fra Oslo S (L13 Dal) med ankomst Frogner stasjon
  10:33. (Ankomst lokaltog nordfra 10:20 og 10:50)\n10:45-11:00 Deltakerreg
 istrering utenfor Frogner gamle kirke.\n11:00-12:00 Guidet opphold i midde
 lalderkirka og på kirkevollen.\n12:00-12:30 Vandring (2 km) til Myhrer g
 årds pilegrimsstopp. Vi får bruke tunet der til lunsjpause.\n12:30-13:00
  Lunsj\n13:00-15:30 (ca) Vandring via Leirsund (2.5 km) og over Farseggen 
 til Skedsmovollen (nye 3 km).\n.\nTotal lengde: 7.5 km. Mulighet for å sn
 u underveis\, evt. ta tog hjem fra Leirsund. (Fra Skedsmo kirke til Lilles
 trøm stasjon går det buss ca. hvert kvarter.)\n.\nLangs leden over Farse
 ggen bestemmer gruppen hvor mange stopp vi tar. Det er flere rasteplasser.
 \nFrogner stasjon ligger i sone 3Ø. Leirsund stasjon og Skedsmovollen i s
 one 2Ø.\n.\nTa med:\n* Niste\, drikke og sitteunderlag.\n\n\n* Munnbind t
 il bruk der det trengs underveis.\n\n[caption id="attachment_30410" align=
 "alignright" width="508"] Kartutsnitt fra www.pilegrimsleden.no. Vi vandre
 r fra øvre hjørne til nedre hjørne - altså i retning mot St.Hallvard i
  Oslo.[/caption]\n\n* Klær etter vær (Turen gjennomføres uten værforbe
 hold)\n\n\n.\n«Pilegrimspass for middelalderkirker på Østlandet» stemp
 les av turlederne i kirka.\nDe har også med pass for salg.\n.\n\n\nHar du
  spørsmål like før turstart\, kan du ta kontakt med turlederne i kommen
 tarfeltet på Facebook-arrangementet.\n\n\n.\nLenker\n\n 	Mer om Frogner g
 amle kirke\n 	Mer om Myhrer gård\n 	Mer om Pilegrimspass for Middelalderk
 irker på Østlandet\n\nArrangementet er støttet av Viken fylkeskommune.\
 n\n&nbsp\;\n\n&nbsp\;\n\n&nbsp\;
CATEGORIES:Dagsvandring,Pilegrimsfellesskapet St. Hallvard av Oslo
LOCATION:Frogner gamle kirke\, Gamle Kirkevegen 19\,  2016 Frogner\, Norway
X-APPLE-STRUCTURED-LOCATION;VALUE=URI;X-ADDRESS=Gamle Kirkevegen 19\,  2016
  Frogner\, Norway;X-APPLE-RADIUS=100;X-TITLE=Frogner gamle kirke:geo:0,0
END:VEVENT
BEGIN:VTIMEZONE
TZID:Europe/Oslo
X-LIC-LOCATION:Europe/Oslo
BEGIN:DAYLIGHT
DTSTART:20210328T030000
TZOFFSETFROM:+0100
TZOFFSETTO:+0200
TZNAME:CEST
END:DAYLIGHT
END:VTIMEZONE
END:VCALENDAR