BEGIN:VCALENDAR
VERSION:2.0
PRODID:-//wp-events-plugin.com//7.2.3.1//EN
BEGIN:VEVENT
UID:38@pilegrimsfellesskapet.no
DTSTART;TZID=Europe/Oslo:20201114T110000
DTEND;TZID=Europe/Oslo:20201114T160000
DTSTAMP:20201114T000443Z
URL:https://www.pilegrimsfellesskapet.no/arrangement/lordagsvandring-til-m
 argaretakirkeruinen-i-maridalen/
SUMMARY:Lørdagsvandring til Margaretakirkeruinen i Maridalen
DESCRIPTION:Pilegrimsfellesskapet St.hallvard av Oslo inviterer til lørdag
 svandring der Margaretakirkeruinen i Maridalen er hovedmålet.\n.\nMargare
 takirken var i bruk fra ca 1250 til innpå 1600-tallet. Den var viet til M
 argareta av Antiokia\, som også ga navn til dalen. Vår fagekspert på tu
 ren er historiker Jahn Børe Jahnsen\, som blant svært mye annet bidro ti
 l boka "Kom til den fagre Maridal" i 1971. Han deltar på strekningen Hamm
 eren-Nes. Vår forteller på turen er Grete Bergersen fra Pilegrimsforenin
 gen St.Hallvard av Huseby i Lier.\nTurledere: Kim Elisabet-Kristin Sollie\
 , Lynn Rosentrater og Kristin Øveraas.\n.\nTURBESKRIVELSE\n11:00 Avmarsj 
 fra Sognsvann T-banestasjon/parkeringsplass. Ca. 6 km vandring via Ankerve
 ien og guidet stopp på Hammeren (busstopp og P)  før Margaretakirkeruin
 en.\n- Matpausetid etter gruppens valg\n13:00 (tidligst)  -Om Margareta v
 /Grete Bergersen\n-Om kirka og dalen v/Jahn Børe Jahnsen\n*\nBuss 51 til 
 Nydalen går fra Maridalen kirke nordover via Skar 14:09\, 15:09 osv.\nFra
  Hammeren går den sørover 14:24\, 15:24 osv.\nBli med til Nydalen for T-
 bane videre. Gå evt. av på Brekkekrysset dersom du vil vandre over til K
 jelsås for tog\, trikk og andre busser.\nAlle holdeplasser ligger i Ruter
 s sone 1.\n*\nDen som ønsker en lengere vandring\, kan bli med guidene vi
 dere. Vi vandrer forbi Maridalen kirke til Nes gård\, hvor Henrik Wergela
 nd skal ha skrevet «Kom til den fagre Maridal». Så kommer kongeeikene\,
  Nes teglverk\, Dausjøelva og Sanner gård. Derifra fortsetter vi i mørk
 et langs østsiden av Maridalsvannet og avslutter ved Kjelsås stasjon.\nT
 otal lengde Sognsvann-Kjelsås er ca.12 km. Vi går på skogsveier\, med n
 oen korte strekk på asfalt.\n.\nTa med:\n* Niste\, drikke og sitteunderla
 g\n* Munnbind til bruk når vi stopper\n* Hodelykt\, dersom du vil vandre 
 helt til Kjelsås\n* Klær etter vær\, og ekstra varme sko for å få et 
 behagelig ruinopphold.\nTuren gjennomføres uten værforbehold.\n.\n«Pile
 grimspass for middelalderkirker på Østlandet» stemples av turlederne ve
 d kirkeruinen. De har også med pass for salg.\n.\nHar du spørsmål like 
 før turstart\, kan du ta kontakt med turlederne i kommentarfeltet på Fac
 ebook-arrangementet.\n.\nLenker\nJahn Børe Jahnsen er en garvet pilegrims
 turleder og mangeårig leder av Pilegrimsfellesskapet St. Thomas i Valdres
 . Mer om hans faglige bakgrunn.\nMer om Margaretakirken på Lokalhistoriew
 iki. \nMer om Pilegrimspass for Middelalderkirker på Østlandet
CATEGORIES:Dagsvandring,Pilegrimsfellesskapet St. Hallvard av Oslo
END:VEVENT
BEGIN:VTIMEZONE
TZID:Europe/Oslo
X-LIC-LOCATION:Europe/Oslo
BEGIN:STANDARD
DTSTART:20201025T020000
TZOFFSETFROM:+0200
TZOFFSETTO:+0100
TZNAME:CET
END:STANDARD
END:VTIMEZONE
END:VCALENDAR