BEGIN:VCALENDAR
VERSION:2.0
PRODID:-//wp-events-plugin.com//7.2.3.1//EN
BEGIN:VEVENT
UID:545@pilegrimsfellesskapet.no
DTSTART;TZID=Europe/Oslo:20251018T143000
DTEND;TZID=Europe/Oslo:20251018T183000
DTSTAMP:20251010T081808Z
URL:https://www.pilegrimsfellesskapet.no/arrangement/lordagsvandring-til-m
 argaretakirkeruinen/
SUMMARY:Lørdagsvandring til Margaretakirkeruinen i Maridalen
DESCRIPTION:Pilegrimsfellesskapet St.Hallvard av Oslo ønsker velkommen til
  en ca. 9 km lang pilegrimsvandring i høstfarger\, fram mot solnedgang ba
 k Margaretakirkeruinen.\n.\nMargaretakirken var i bruk fra ca. 1250 til in
 npå 1600-tallet. Den var viet til Margareta av Antiokia\, som også ga na
 vn til dalen.\n.\n\n\nVi møtes kl. 1430 på busstoppet "Stig" ved badedam
 men på Årvoll. Ta med niste\, staver og hodelykt.\n\nTURBESKRIVELSE\n\nV
 i følger Klosterelva/Hovinbekken inn mot Lillomarka ved å passere Øvre 
 isdam før vi tar den gode grusveien via Kastesteinen til Kapteinsputten/L
 inderudkollen. Så går vi på "glemte veier" og litt grov sti ned til Mon
 setangen. Deretter følger vi Greveveien øst for Maridalsvannet fram til 
 Maridalen kirke. Så går vi på gårdsvei via Maridalen bygdetun fram til
  Margaretakirkeruinen.\n.\nPraktisk info:\n* Vi vandrer på en blanding av
  fast dekke\, grus og et kort stykke på skogssti. For stien anbefales st
 ødige sko og gjerne staver.\n* Det blir pauser underveis\, så ta med sit
 teunderlag\, mat og drikke.\n* Etter ca. 3 km passerer vi Linderudkollen. 
 Like etter krysser vi busslinje 56.\n* Ved Maridalen kirke krysser vi buss
 linje 51. Derifra er det 2 km igjen av vandringen.\nDen som vil vandre kor
 tere\, kan ta buss til "Maridalen kirke" med ankomst 16:39 og bli med oss 
 på vårt raske innslipp i Maridalen kirke og så på resten av turen.\n* 
 Retur med buss 51 fra Hammeren klokka 18:24. Den er i Nydalen 18:38.\n.\nV
 i returnerer mot byen med buss 51 fra Hammeren klokka 18:24. Den er i Nyda
 len T klokka 18:38.\nGå evt. av på Brekkekrysset dersom du vil vandre ov
 er til Kjelsås for tog\, trikk og andre busser.\nAlle holdeplasser ligger
  i Ruters sone 1.\n.\nTuren gjennomføres uten værforbehold.\n«Pilegrims
 pass for middelalderkirker på Østlandet» stemples av turlederne ved kir
 keruinen. De har også med pass for salg.\nHar du spørsmål like før tur
 start\, kan du ta kontakt med turlederne i kommentarfeltet på Facebook-ar
 rangementet.\n.\n\nVel møtt!\n\n\nHilsen Grethe\, Kim og Kristin\n\n\n\n 
 \n\n\n.
ATTACH;FMTTYPE=image/jpeg:https://www.pilegrimsfellesskapet.no/wp-content/
 uploads/2025/10/1000021406-scaled.jpg
CATEGORIES:Dagsvandring,Pilegrimsfellesskapet St. Hallvard av Oslo
END:VEVENT
BEGIN:VTIMEZONE
TZID:Europe/Oslo
X-LIC-LOCATION:Europe/Oslo
BEGIN:DAYLIGHT
DTSTART:20250330T030000
TZOFFSETFROM:+0100
TZOFFSETTO:+0200
TZNAME:CEST
END:DAYLIGHT
END:VTIMEZONE
END:VCALENDAR