BEGIN:VCALENDAR
VERSION:2.0
PRODID:-//wp-events-plugin.com//7.2.3.1//EN
BEGIN:VEVENT
UID:238@pilegrimsfellesskapet.no
DTSTART;TZID=Europe/Oslo:20230514T110000
DTEND;TZID=Europe/Oslo:20230514T150000
DTSTAMP:20230313T083649Z
URL:https://www.pilegrimsfellesskapet.no/arrangement/markering-av-st-hallv
 ardsdag-pa-huseby/
SUMMARY:Markering av St. Hallvardsdag på Huseby
DESCRIPTION:Pilegrimsforeningen St. Hallvard av Huseby inviterer til marker
 ing av St. Hallvardsdagen.
ATTACH;FMTTYPE=image/jpeg:https://www.pilegrimsfellesskapet.no/wp-content/
 uploads/2018/06/ursendelsesseremoni-06.jpg
CATEGORIES:Pilegrimsforeningen St. Hallvard av Huseby
LOCATION:Gullaug kirke\, Linnesstranda 43\, Lier\, 3400\, Norway
X-APPLE-STRUCTURED-LOCATION;VALUE=URI;X-ADDRESS=Linnesstranda 43\, Lier\, 3
 400\, Norway;X-APPLE-RADIUS=100;X-TITLE=Gullaug kirke:geo:0,0
END:VEVENT
BEGIN:VTIMEZONE
TZID:Europe/Oslo
X-LIC-LOCATION:Europe/Oslo
BEGIN:DAYLIGHT
DTSTART:20230326T030000
TZOFFSETFROM:+0100
TZOFFSETTO:+0200
TZNAME:CEST
END:DAYLIGHT
END:VTIMEZONE
END:VCALENDAR