BEGIN:VCALENDAR
VERSION:2.0
PRODID:-//wp-events-plugin.com//7.2.3.1//EN
BEGIN:VEVENT
UID:462@pilegrimsfellesskapet.no
DTSTART;TZID=Europe/Oslo:20250515T183000
DTEND;TZID=Europe/Oslo:20250515T203000
DTSTAMP:20250430T034751Z
URL:https://www.pilegrimsfellesskapet.no/arrangement/medlemsmote-i-pilegri
 msfellesskapet-st-olav-nidaros-3/
SUMMARY:Medlemsmøte i Pilegrimsfellesskapet St. Olav - Nidaros
DESCRIPTION:Pilegrimsfellesskapet St. Olav - Nidaros inviterer til medlemsm
 øte i peisestua på Nidaros pilegrimsgård.
ATTACH;FMTTYPE=image/jpeg:https://www.pilegrimsfellesskapet.no/wp-content/
 uploads/2021/08/Nidaros-pilegrimsgard.jpg
CATEGORIES:Møter,Pilegrimsfellesskapet St. Olav - Nidaros
LOCATION:Nidaros Pilegrimsgård\, Kjøpmannsgata 1\, Trondheim\, Trøndelag
 \, 7013\, Trøndelag\, Norway
X-APPLE-STRUCTURED-LOCATION;VALUE=URI;X-ADDRESS=Kjøpmannsgata 1\, Trondhei
 m\, Trøndelag\, 7013\, Trøndelag\, Norway;X-APPLE-RADIUS=100;X-TITLE=Nid
 aros Pilegrimsgård:geo:0,0
END:VEVENT
BEGIN:VTIMEZONE
TZID:Europe/Oslo
X-LIC-LOCATION:Europe/Oslo
BEGIN:DAYLIGHT
DTSTART:20250330T030000
TZOFFSETFROM:+0100
TZOFFSETTO:+0200
TZNAME:CEST
END:DAYLIGHT
END:VTIMEZONE
END:VCALENDAR