BEGIN:VCALENDAR
VERSION:2.0
PRODID:-//wp-events-plugin.com//7.2.3.1//EN
BEGIN:VEVENT
UID:298@pilegrimsfellesskapet.no
DTSTART;TZID=Europe/Oslo:20230921T170000
DTEND;TZID=Europe/Oslo:20230921T190000
DTSTAMP:20230904T115641Z
URL:https://www.pilegrimsfellesskapet.no/arrangement/medlemsmote-i-pilegri
 msfellesskapet-st-olav-nidaros/
SUMMARY:Medlemsmøte i Pilegrimsfellesskapet St. Olav - Nidaros
DESCRIPTION:Pilegrimsfellesskapet St. Olav - Nidaros ønsker velkommen til 
 medlemsmøte \,med tema Pilegrimsreise til Jordan og Det Hellige Land nove
 mber 2022.
ATTACH;FMTTYPE=image/jpeg:https://www.pilegrimsfellesskapet.no/wp-content/
 uploads/2023/09/Pilegrimsvandring-pa-Vestbredden.-Foto-Laila-Stoen-scaled.
 jpg
CATEGORIES:Møter,Pilegrimsfellesskapet St. Olav - Nidaros
LOCATION:Nidaros Pilegrimsgård\, Kjøpmannsgata 1\, Trondheim\, Trøndelag
 \, 7013\, Trøndelag\, Norway
X-APPLE-STRUCTURED-LOCATION;VALUE=URI;X-ADDRESS=Kjøpmannsgata 1\, Trondhei
 m\, Trøndelag\, 7013\, Trøndelag\, Norway;X-APPLE-RADIUS=100;X-TITLE=Nid
 aros Pilegrimsgård:geo:0,0
END:VEVENT
BEGIN:VTIMEZONE
TZID:Europe/Oslo
X-LIC-LOCATION:Europe/Oslo
BEGIN:DAYLIGHT
DTSTART:20230326T030000
TZOFFSETFROM:+0100
TZOFFSETTO:+0200
TZNAME:CEST
END:DAYLIGHT
END:VTIMEZONE
END:VCALENDAR