BEGIN:VCALENDAR
VERSION:2.0
PRODID:-//wp-events-plugin.com//7.2.3.1//EN
BEGIN:VEVENT
UID:179@pilegrimsfellesskapet.no
DTSTART;TZID=Europe/Oslo:20221026T180000
DTEND;TZID=Europe/Oslo:20221026T200000
DTSTAMP:20221019T211931Z
URL:https://www.pilegrimsfellesskapet.no/arrangement/medlemsmote-i-pso-nid
 aros/
SUMMARY:Medlemsmøte i PSO - Nidaros
DESCRIPTION:Pilegrimsfellesskapet St. Olav - Nidaros inviterer til høstens
  første medlemsmøte.\n\nAgenda for møtet:\n\n 	Kort orientering fra sty
 ret om planlagte aktiviteter i høst\n 	Foredrag av Biskop emeritus Tor Si
 ngsaas “Den svenske pilegrimspresten Hans Erik Lindstrøm har utviklet 7
  nøkkelord i forbindelse med pilegrimsvandringer. Ordene er : Langsomhet\
 , frihet\, enkelhet\, bekymringsløshet\, stillhet\, dele (delande sv) og 
 åndelighet". Tor Singsaas vil belyse disse sett fra sitt perspektiv.\n\nD
 et vil bli servert kaffe/te og et kakestykke.\n\nVel møtt!
ATTACH;FMTTYPE=image/jpeg:https://www.pilegrimsfellesskapet.no/wp-content/
 uploads/2021/08/Nidaros-pilegrimsgard.jpg
CATEGORIES:Møter
LOCATION:Nidaros pilegrimsgård\, Kjøpmannsgata 1\, Trondheim\, Trøndelag
 \, Norway
X-APPLE-STRUCTURED-LOCATION;VALUE=URI;X-ADDRESS=Kjøpmannsgata 1\, Trondhei
 m\, Trøndelag\, Norway;X-APPLE-RADIUS=100;X-TITLE=Nidaros pilegrimsgård:
 geo:0,0
END:VEVENT
BEGIN:VTIMEZONE
TZID:Europe/Oslo
X-LIC-LOCATION:Europe/Oslo
BEGIN:DAYLIGHT
DTSTART:20220327T030000
TZOFFSETFROM:+0100
TZOFFSETTO:+0200
TZNAME:CEST
END:DAYLIGHT
END:VTIMEZONE
END:VCALENDAR